BEGIN:VCALENDAR
VERSION:2.0
PRODID:-//Bainbridge Township - ECPv6.15.20//NONSGML v1.0//EN
CALSCALE:GREGORIAN
METHOD:PUBLISH
X-ORIGINAL-URL:https://bainbridgetwp.com
X-WR-CALDESC:Events for Bainbridge Township
REFRESH-INTERVAL;VALUE=DURATION:PT1H
X-Robots-Tag:noindex
X-PUBLISHED-TTL:PT1H
BEGIN:VTIMEZONE
TZID:America/New_York
BEGIN:DAYLIGHT
TZOFFSETFROM:-0500
TZOFFSETTO:-0400
TZNAME:EDT
DTSTART:20230312T070000
END:DAYLIGHT
BEGIN:STANDARD
TZOFFSETFROM:-0400
TZOFFSETTO:-0500
TZNAME:EST
DTSTART:20231105T060000
END:STANDARD
BEGIN:DAYLIGHT
TZOFFSETFROM:-0500
TZOFFSETTO:-0400
TZNAME:EDT
DTSTART:20240310T070000
END:DAYLIGHT
BEGIN:STANDARD
TZOFFSETFROM:-0400
TZOFFSETTO:-0500
TZNAME:EST
DTSTART:20241103T060000
END:STANDARD
BEGIN:DAYLIGHT
TZOFFSETFROM:-0500
TZOFFSETTO:-0400
TZNAME:EDT
DTSTART:20250309T070000
END:DAYLIGHT
BEGIN:STANDARD
TZOFFSETFROM:-0400
TZOFFSETTO:-0500
TZNAME:EST
DTSTART:20251102T060000
END:STANDARD
BEGIN:DAYLIGHT
TZOFFSETFROM:-0500
TZOFFSETTO:-0400
TZNAME:EDT
DTSTART:20260308T070000
END:DAYLIGHT
BEGIN:STANDARD
TZOFFSETFROM:-0400
TZOFFSETTO:-0500
TZNAME:EST
DTSTART:20261101T060000
END:STANDARD
END:VTIMEZONE
BEGIN:VEVENT
DTSTART;TZID=America/New_York:20250324T190000
DTEND;TZID=America/New_York:20250324T190000
DTSTAMP:20260424T194605
CREATED:20250107T192211Z
LAST-MODIFIED:20250321T152233Z
UID:20051-1742842800-1742842800@bainbridgetwp.com
SUMMARY:BOT Meeting
DESCRIPTION:
URL:https://bainbridgetwp.com/event/bot-meeting-78/
END:VEVENT
BEGIN:VEVENT
DTSTART;TZID=America/New_York:20250320T190000
DTEND;TZID=America/New_York:20250320T190000
DTSTAMP:20260424T194605
CREATED:20241231T145445Z
LAST-MODIFIED:20250320T124349Z
UID:19979-1742497200-1742497200@bainbridgetwp.com
SUMMARY:Board of Zoning Appeals Meeting - CANCELED
DESCRIPTION:The Bainbridge Township Board of Zoning Appeals meeting for tonight\, March 20\, 2025 is canceled due to the applicant withdrawing his application.
URL:https://bainbridgetwp.com/event/board-of-zoning-appeals-meeting-42/
END:VEVENT
BEGIN:VEVENT
DTSTART;TZID=America/New_York:20250310T190000
DTEND;TZID=America/New_York:20250310T190000
DTSTAMP:20260424T194605
CREATED:20250107T192125Z
LAST-MODIFIED:20250307T152214Z
UID:20049-1741633200-1741633200@bainbridgetwp.com
SUMMARY:BOT Meeting
DESCRIPTION:
URL:https://bainbridgetwp.com/event/bot-meeting-77/
END:VEVENT
BEGIN:VEVENT
DTSTART;TZID=America/New_York:20250228T150000
DTEND;TZID=America/New_York:20250228T150000
DTSTAMP:20260424T194605
CREATED:20250227T174445Z
LAST-MODIFIED:20250227T181124Z
UID:20253-1740754800-1740754800@bainbridgetwp.com
SUMMARY:BOT Meeting - Special
DESCRIPTION:
URL:https://bainbridgetwp.com/event/bot-meeting-special-23/
END:VEVENT
BEGIN:VEVENT
DTSTART;TZID=America/New_York:20250225T180000
DTEND;TZID=America/New_York:20250225T180000
DTSTAMP:20260424T194605
CREATED:20241231T145320Z
LAST-MODIFIED:20250218T192141Z
UID:19976-1740506400-1740506400@bainbridgetwp.com
SUMMARY:Zoning Commission Meeting
DESCRIPTION:
URL:https://bainbridgetwp.com/event/zoning-commission-meeting-39/
END:VEVENT
BEGIN:VEVENT
DTSTART;TZID=America/New_York:20250224T190000
DTEND;TZID=America/New_York:20250224T190000
DTSTAMP:20260424T194605
CREATED:20250107T192036Z
LAST-MODIFIED:20250221T171641Z
UID:20047-1740423600-1740423600@bainbridgetwp.com
SUMMARY:BOT Meeting
DESCRIPTION:
URL:https://bainbridgetwp.com/event/bot-meeting-76/
END:VEVENT
BEGIN:VEVENT
DTSTART;TZID=America/New_York:20250220T190000
DTEND;TZID=America/New_York:20250220T190000
DTSTAMP:20260424T194605
CREATED:20241231T145224Z
LAST-MODIFIED:20250108T184016Z
UID:19974-1740078000-1740078000@bainbridgetwp.com
SUMMARY:Board of Zoning Appeals Meeting
DESCRIPTION:
URL:https://bainbridgetwp.com/event/board-of-zoning-appeals-meeting-41/
END:VEVENT
BEGIN:VEVENT
DTSTART;TZID=America/New_York:20250210T190000
DTEND;TZID=America/New_York:20250210T190000
DTSTAMP:20260424T194605
CREATED:20250107T191939Z
LAST-MODIFIED:20250207T154231Z
UID:20045-1739214000-1739214000@bainbridgetwp.com
SUMMARY:BOT Meeting
DESCRIPTION:
URL:https://bainbridgetwp.com/event/bot-meeting-75/
LOCATION:Bainbridge Town Hall\, 17826 Chillicothe Road\, Chagrin Falls\, OH\, 44023\, United States
END:VEVENT
BEGIN:VEVENT
DTSTART;TZID=America/New_York:20250128T180000
DTEND;TZID=America/New_York:20250128T180000
DTSTAMP:20260424T194605
CREATED:20241231T143831Z
LAST-MODIFIED:20250124T174204Z
UID:19969-1738087200-1738087200@bainbridgetwp.com
SUMMARY:Zoning Commission Meeting
DESCRIPTION:
URL:https://bainbridgetwp.com/event/zoning-commission-meeting-38/
END:VEVENT
BEGIN:VEVENT
DTSTART;TZID=America/New_York:20250127T190000
DTEND;TZID=America/New_York:20250127T190000
DTSTAMP:20260424T194605
CREATED:20241231T144155Z
LAST-MODIFIED:20250124T173648Z
UID:19972-1738004400-1738004400@bainbridgetwp.com
SUMMARY:BOT Meeting
DESCRIPTION:
URL:https://bainbridgetwp.com/event/bot-meeting-74/
END:VEVENT
BEGIN:VEVENT
DTSTART;TZID=America/New_York:20250116T190000
DTEND;TZID=America/New_York:20250116T190000
DTSTAMP:20260424T194605
CREATED:20241231T143158Z
LAST-MODIFIED:20250108T184127Z
UID:19966-1737054000-1737054000@bainbridgetwp.com
SUMMARY:Board of Zoning Appeals Meeting
DESCRIPTION:
URL:https://bainbridgetwp.com/event/board-of-zoning-appeals-meeting-40/
END:VEVENT
BEGIN:VEVENT
DTSTART;TZID=America/New_York:20250106T180000
DTEND;TZID=America/New_York:20250106T180000
DTSTAMP:20260424T194605
CREATED:20240515T173235Z
LAST-MODIFIED:20250103T170354Z
UID:19384-1736186400-1736186400@bainbridgetwp.com
SUMMARY:BOT Meeting - Special Organizational
DESCRIPTION:
URL:https://bainbridgetwp.com/event/bot-meeting-special-organizational/
END:VEVENT
BEGIN:VEVENT
DTSTART;VALUE=DATE:20250101
DTEND;VALUE=DATE:20250102
DTSTAMP:20260424T194605
CREATED:20240109T162732Z
LAST-MODIFIED:20240109T162732Z
UID:19000-1735689600-1735775999@bainbridgetwp.com
SUMMARY:New Year's Day - CLOSED
DESCRIPTION:
URL:https://bainbridgetwp.com/event/new-years-day-closed/
END:VEVENT
BEGIN:VEVENT
DTSTART;TZID=America/New_York:20241231T180000
DTEND;TZID=America/New_York:20241231T180000
DTSTAMP:20260424T194605
CREATED:20240109T164959Z
LAST-MODIFIED:20241203T162340Z
UID:19033-1735668000-1735668000@bainbridgetwp.com
SUMMARY:Zoning Commission Meeting - Canceled
DESCRIPTION:
URL:https://bainbridgetwp.com/event/zoning-commission-meeting-37/
END:VEVENT
BEGIN:VEVENT
DTSTART;TZID=America/New_York:20241226T080000
DTEND;TZID=America/New_York:20250221T170000
DTSTAMP:20260424T194605
CREATED:20240515T131037Z
LAST-MODIFIED:20240515T131051Z
UID:19377-1735200000-1740157200@bainbridgetwp.com
SUMMARY:Christmas Tree Drop Off
DESCRIPTION:Please drop off Christmas trees at the Service Department Auxiliary Lot across from the Recycling Center
URL:https://bainbridgetwp.com/event/christmas-tree-drop-off-2/
END:VEVENT
BEGIN:VEVENT
DTSTART;VALUE=DATE:20241225
DTEND;VALUE=DATE:20241226
DTSTAMP:20260424T194605
CREATED:20240109T162650Z
LAST-MODIFIED:20240109T162650Z
UID:18998-1735084800-1735171199@bainbridgetwp.com
SUMMARY:Christmas Day - CLOSED
DESCRIPTION:
URL:https://bainbridgetwp.com/event/christmas-day-closed/
END:VEVENT
BEGIN:VEVENT
DTSTART;TZID=America/New_York:20241223T190000
DTEND;TZID=America/New_York:20241223T190000
DTSTAMP:20260424T194605
CREATED:20240109T160909Z
LAST-MODIFIED:20240515T173020Z
UID:18962-1734980400-1734980400@bainbridgetwp.com
SUMMARY:BOT Meeting - Canceled
DESCRIPTION:12/23/2024 meeting is canceled and moved to 12/18/2024.
URL:https://bainbridgetwp.com/event/bot-meeting-71/
END:VEVENT
BEGIN:VEVENT
DTSTART;TZID=America/New_York:20241219T190000
DTEND;TZID=America/New_York:20241219T190000
DTSTAMP:20260424T194605
CREATED:20240109T162615Z
LAST-MODIFIED:20241204T135625Z
UID:18996-1734634800-1734634800@bainbridgetwp.com
SUMMARY:Board of Zoning Appeals Meeting
DESCRIPTION:
URL:https://bainbridgetwp.com/event/board-of-zoning-appeals-meeting-39/
END:VEVENT
BEGIN:VEVENT
DTSTART;TZID=America/New_York:20241218T190000
DTEND;TZID=America/New_York:20241218T190000
DTSTAMP:20260424T194605
CREATED:20240515T173110Z
LAST-MODIFIED:20241217T173109Z
UID:19382-1734548400-1734548400@bainbridgetwp.com
SUMMARY:BOT Meeting
DESCRIPTION:
URL:https://bainbridgetwp.com/event/bot-meeting-73/
END:VEVENT
BEGIN:VEVENT
DTSTART;TZID=America/New_York:20241216T173000
DTEND;TZID=America/New_York:20241216T173000
DTSTAMP:20260424T194605
CREATED:20241118T130024Z
LAST-MODIFIED:20241118T134019Z
UID:19843-1734370200-1734370200@bainbridgetwp.com
SUMMARY:BOT Meeting - Special
DESCRIPTION:
URL:https://bainbridgetwp.com/event/bot-meeting-special-21/
END:VEVENT
BEGIN:VEVENT
DTSTART;TZID=America/New_York:20241209T190000
DTEND;TZID=America/New_York:20241209T190000
DTSTAMP:20260424T194605
CREATED:20240109T160830Z
LAST-MODIFIED:20241206T170423Z
UID:18960-1733770800-1733770800@bainbridgetwp.com
SUMMARY:BOT Meeting
DESCRIPTION:
URL:https://bainbridgetwp.com/event/bot-meeting-70/
END:VEVENT
BEGIN:VEVENT
DTSTART;TZID=America/New_York:20241202T173000
DTEND;TZID=America/New_York:20241202T173000
DTSTAMP:20260424T194605
CREATED:20241118T125940Z
LAST-MODIFIED:20241118T133835Z
UID:19841-1733160600-1733160600@bainbridgetwp.com
SUMMARY:BOT Meeting - Special
DESCRIPTION:
URL:https://bainbridgetwp.com/event/bot-meeting-special-20/
LOCATION:Bainbridge Town Hall\, 17826 Chillicothe Road\, Chagrin Falls\, OH\, 44023\, United States
END:VEVENT
BEGIN:VEVENT
DTSTART;TZID=America/New_York:20241130T190000
DTEND;TZID=America/New_York:20241130T193000
DTSTAMP:20260424T194605
CREATED:20240515T130236Z
LAST-MODIFIED:20240515T130236Z
UID:19375-1732993200-1732995000@bainbridgetwp.com
SUMMARY:Holiday Lighting Ceremony
DESCRIPTION:
URL:https://bainbridgetwp.com/event/holiday-lighting-ceremony-2/
END:VEVENT
BEGIN:VEVENT
DTSTART;VALUE=DATE:20241129
DTEND;VALUE=DATE:20241130
DTSTAMP:20260424T194605
CREATED:20240109T162520Z
LAST-MODIFIED:20240109T162520Z
UID:18994-1732838400-1732924799@bainbridgetwp.com
SUMMARY:Thanksgiving Holiday - CLOSED
DESCRIPTION:
URL:https://bainbridgetwp.com/event/thanksgiving-holiday-closed/
END:VEVENT
BEGIN:VEVENT
DTSTART;VALUE=DATE:20241128
DTEND;VALUE=DATE:20241129
DTSTAMP:20260424T194605
CREATED:20240109T162444Z
LAST-MODIFIED:20240109T162444Z
UID:18992-1732752000-1732838399@bainbridgetwp.com
SUMMARY:Thanksgiving - CLOSED
DESCRIPTION:
URL:https://bainbridgetwp.com/event/thanksgiving-closed-5/
END:VEVENT
BEGIN:VEVENT
DTSTART;TZID=America/New_York:20241126T180000
DTEND;TZID=America/New_York:20241126T180000
DTSTAMP:20260424T194605
CREATED:20240109T164906Z
LAST-MODIFIED:20241121T154644Z
UID:19031-1732644000-1732644000@bainbridgetwp.com
SUMMARY:Zoning Commission Meeting
DESCRIPTION:
URL:https://bainbridgetwp.com/event/zoning-commission-meeting-36/
END:VEVENT
BEGIN:VEVENT
DTSTART;TZID=America/New_York:20241125T190000
DTEND;TZID=America/New_York:20241125T190000
DTSTAMP:20260424T194605
CREATED:20240109T160747Z
LAST-MODIFIED:20241122T192636Z
UID:18958-1732561200-1732561200@bainbridgetwp.com
SUMMARY:BOT Meeting
DESCRIPTION:
URL:https://bainbridgetwp.com/event/bot-meeting-69/
END:VEVENT
BEGIN:VEVENT
DTSTART;TZID=America/New_York:20241121T190000
DTEND;TZID=America/New_York:20241121T190000
DTSTAMP:20260424T194605
CREATED:20240109T162358Z
LAST-MODIFIED:20241108T171957Z
UID:18990-1732215600-1732215600@bainbridgetwp.com
SUMMARY:Board of Zoning Appeals Meeting
DESCRIPTION:
URL:https://bainbridgetwp.com/event/board-of-zoning-appeals-meeting-38/
END:VEVENT
BEGIN:VEVENT
DTSTART;TZID=America/New_York:20241118T190000
DTEND;TZID=America/New_York:20241118T190000
DTSTAMP:20260424T194605
CREATED:20241118T125608Z
LAST-MODIFIED:20241118T133459Z
UID:19839-1731956400-1731956400@bainbridgetwp.com
SUMMARY:BOT Meeting - Special
DESCRIPTION:
URL:https://bainbridgetwp.com/event/bot-meeting-special-19/
LOCATION:Bainbridge Town Hall\, 17826 Chillicothe Road\, Chagrin Falls\, OH\, 44023\, United States
END:VEVENT
BEGIN:VEVENT
DTSTART;TZID=America/New_York:20241118T173000
DTEND;TZID=America/New_York:20241118T173000
DTSTAMP:20260424T194605
CREATED:20241118T125509Z
LAST-MODIFIED:20241118T132957Z
UID:19837-1731951000-1731951000@bainbridgetwp.com
SUMMARY:BOT Meeting - Special
DESCRIPTION:
URL:https://bainbridgetwp.com/event/bot-meeting-special-18/
LOCATION:Kenston High School\, 17419 Snyder Road\, Chagrin Falls\, OH\, 44023\, United States
END:VEVENT
END:VCALENDAR