BEGIN:VCALENDAR
VERSION:2.0
PRODID:-//Bainbridge Township - ECPv6.15.20//NONSGML v1.0//EN
CALSCALE:GREGORIAN
METHOD:PUBLISH
X-WR-CALNAME:Bainbridge Township
X-ORIGINAL-URL:https://bainbridgetwp.com
X-WR-CALDESC:Events for Bainbridge Township
REFRESH-INTERVAL;VALUE=DURATION:PT1H
X-Robots-Tag:noindex
X-PUBLISHED-TTL:PT1H
BEGIN:VTIMEZONE
TZID:America/New_York
BEGIN:DAYLIGHT
TZOFFSETFROM:-0500
TZOFFSETTO:-0400
TZNAME:EDT
DTSTART:20240310T070000
END:DAYLIGHT
BEGIN:STANDARD
TZOFFSETFROM:-0400
TZOFFSETTO:-0500
TZNAME:EST
DTSTART:20241103T060000
END:STANDARD
BEGIN:DAYLIGHT
TZOFFSETFROM:-0500
TZOFFSETTO:-0400
TZNAME:EDT
DTSTART:20250309T070000
END:DAYLIGHT
BEGIN:STANDARD
TZOFFSETFROM:-0400
TZOFFSETTO:-0500
TZNAME:EST
DTSTART:20251102T060000
END:STANDARD
BEGIN:DAYLIGHT
TZOFFSETFROM:-0500
TZOFFSETTO:-0400
TZNAME:EDT
DTSTART:20260308T070000
END:DAYLIGHT
BEGIN:STANDARD
TZOFFSETFROM:-0400
TZOFFSETTO:-0500
TZNAME:EST
DTSTART:20261101T060000
END:STANDARD
END:VTIMEZONE
BEGIN:VEVENT
DTSTART;TZID=America/New_York:20251013T190000
DTEND;TZID=America/New_York:20251013T190000
DTSTAMP:20260424T152624
CREATED:20250107T193511Z
LAST-MODIFIED:20251010T135242Z
UID:20076-1760382000-1760382000@bainbridgetwp.com
SUMMARY:BOT Meeting
DESCRIPTION:
URL:https://bainbridgetwp.com/event/bot-meeting-90/
END:VEVENT
BEGIN:VEVENT
DTSTART;TZID=America/New_York:20250930T180000
DTEND;TZID=America/New_York:20250930T180000
DTSTAMP:20260424T152624
CREATED:20241231T150740Z
LAST-MODIFIED:20250108T183135Z
UID:20009-1759255200-1759255200@bainbridgetwp.com
SUMMARY:Zoning Commission Meeting
DESCRIPTION:
URL:https://bainbridgetwp.com/event/zoning-commission-meeting-45/
END:VEVENT
BEGIN:VEVENT
DTSTART;TZID=America/New_York:20250922T190000
DTEND;TZID=America/New_York:20250922T190000
DTSTAMP:20260424T152624
CREATED:20250107T193428Z
LAST-MODIFIED:20250922T120259Z
UID:20074-1758567600-1758567600@bainbridgetwp.com
SUMMARY:BOT Meeting
DESCRIPTION:
URL:https://bainbridgetwp.com/event/bot-meeting-89/
END:VEVENT
BEGIN:VEVENT
DTSTART;TZID=America/New_York:20250918T190000
DTEND;TZID=America/New_York:20250918T190000
DTSTAMP:20260424T152624
CREATED:20250908T125450Z
LAST-MODIFIED:20250908T125556Z
UID:20676-1758222000-1758222000@bainbridgetwp.com
SUMMARY:Board of Zoning Appeals Meeting
DESCRIPTION:
URL:https://bainbridgetwp.com/event/board-of-zoning-appeals-meeting-48/
END:VEVENT
BEGIN:VEVENT
DTSTART;TZID=America/New_York:20250908T190000
DTEND;TZID=America/New_York:20250908T190000
DTSTAMP:20260424T152624
CREATED:20250107T193344Z
LAST-MODIFIED:20250905T153818Z
UID:20057-1757358000-1757358000@bainbridgetwp.com
SUMMARY:BOT Meeting
DESCRIPTION:
URL:https://bainbridgetwp.com/event/bot-meeting-88/
END:VEVENT
BEGIN:VEVENT
DTSTART;TZID=America/New_York:20250826T180000
DTEND;TZID=America/New_York:20250826T180000
DTSTAMP:20260424T152624
CREATED:20241231T150530Z
LAST-MODIFIED:20250822T183417Z
UID:20005-1756231200-1756231200@bainbridgetwp.com
SUMMARY:Zoning Commission Meeting
DESCRIPTION:
URL:https://bainbridgetwp.com/event/zoning-commission-meeting-44/
END:VEVENT
BEGIN:VEVENT
DTSTART;TZID=America/New_York:20250825T190000
DTEND;TZID=America/New_York:20250825T190000
DTSTAMP:20260424T152624
CREATED:20250107T195843Z
LAST-MODIFIED:20250822T183020Z
UID:20088-1756148400-1756148400@bainbridgetwp.com
SUMMARY:BOT Meeting
DESCRIPTION:
URL:https://bainbridgetwp.com/event/bot-meeting-96/
END:VEVENT
BEGIN:VEVENT
DTSTART;TZID=America/New_York:20250821T190000
DTEND;TZID=America/New_York:20250821T190000
DTSTAMP:20260424T152624
CREATED:20241231T150426Z
LAST-MODIFIED:20250807T132634Z
UID:20003-1755802800-1755802800@bainbridgetwp.com
SUMMARY:Board of Zoning Appeals Meeting
DESCRIPTION:
URL:https://bainbridgetwp.com/event/board-of-zoning-appeals-meeting-47/
END:VEVENT
BEGIN:VEVENT
DTSTART;TZID=America/New_York:20250818T170000
DTEND;TZID=America/New_York:20250818T170000
DTSTAMP:20260424T152624
CREATED:20250815T123351Z
LAST-MODIFIED:20250815T123351Z
UID:20576-1755536400-1755536400@bainbridgetwp.com
SUMMARY:Board of Trustees - Special Meeting
DESCRIPTION:BOT Special Meeting Notice – ES – August 18\, 2025
URL:https://bainbridgetwp.com/event/board-of-trustees-special-meeting-4/
END:VEVENT
BEGIN:VEVENT
DTSTART;TZID=America/New_York:20250811T190000
DTEND;TZID=America/New_York:20250811T190000
DTSTAMP:20260424T152624
CREATED:20250107T193201Z
LAST-MODIFIED:20250808T152506Z
UID:20070-1754938800-1754938800@bainbridgetwp.com
SUMMARY:BOT Meeting
DESCRIPTION:
URL:https://bainbridgetwp.com/event/bot-meeting-87/
END:VEVENT
BEGIN:VEVENT
DTSTART;TZID=America/New_York:20250729T180000
DTEND;TZID=America/New_York:20250729T180000
DTSTAMP:20260424T152624
CREATED:20241231T150338Z
LAST-MODIFIED:20250722T171753Z
UID:20001-1753812000-1753812000@bainbridgetwp.com
SUMMARY:Zoning Commission Meeting
DESCRIPTION:
URL:https://bainbridgetwp.com/event/zoning/
END:VEVENT
BEGIN:VEVENT
DTSTART;TZID=America/New_York:20250728T190000
DTEND;TZID=America/New_York:20250728T190000
DTSTAMP:20260424T152624
CREATED:20250107T193112Z
LAST-MODIFIED:20250725T180803Z
UID:20068-1753729200-1753729200@bainbridgetwp.com
SUMMARY:BOT Meeting
DESCRIPTION:
URL:https://bainbridgetwp.com/event/bot-meeting-86/
END:VEVENT
BEGIN:VEVENT
DTSTART;TZID=America/New_York:20250717T190000
DTEND;TZID=America/New_York:20250717T190000
DTSTAMP:20260424T152624
CREATED:20241231T150244Z
LAST-MODIFIED:20250717T193049Z
UID:19999-1752778800-1752778800@bainbridgetwp.com
SUMMARY:Board of Zoning Appeals Meeting
DESCRIPTION:The Board of Zoning Appeals will be meeting at the Burns-Lindow Building – 8465 Bainbridge Road in regular session only to approve the minutes of the June 19\, 2025 public hearing. \nThere is no public hearing tonight. \n 
URL:https://bainbridgetwp.com/event/board-of-zoning-appeals-meeting-46/
END:VEVENT
BEGIN:VEVENT
DTSTART;TZID=America/New_York:20250714T190000
DTEND;TZID=America/New_York:20250714T190000
DTSTAMP:20260424T152624
CREATED:20250107T193023Z
LAST-MODIFIED:20250711T181551Z
UID:20066-1752519600-1752519600@bainbridgetwp.com
SUMMARY:BOT Meeting
DESCRIPTION:
URL:https://bainbridgetwp.com/event/bot-meeting-85/
END:VEVENT
BEGIN:VEVENT
DTSTART;TZID=America/New_York:20250703T180000
DTEND;TZID=America/New_York:20250703T180000
DTSTAMP:20260424T152624
CREATED:20250627T142306Z
LAST-MODIFIED:20250627T142625Z
UID:20518-1751565600-1751565600@bainbridgetwp.com
SUMMARY:Fireworks - Kenston High School
DESCRIPTION:COMMUNITY 4TH OF JULY  CELEBRATION — \nKENSTON HIGH SCHOOL – 6:00 PM   —  FIREWORKS AT DUSK \nRAIN DATE – JULY 6TH AT DUSK
URL:https://bainbridgetwp.com/event/fireworks-kenston-high-school/
LOCATION:Kenston High School\, 17419 Snyder Road\, Chagrin Falls\, OH\, 44023\, United States
CATEGORIES:Home page
END:VEVENT
BEGIN:VEVENT
DTSTART;TZID=America/New_York:20250624T180000
DTEND;TZID=America/New_York:20250624T180000
DTSTAMP:20260424T152624
CREATED:20241231T150150Z
LAST-MODIFIED:20250620T172616Z
UID:19997-1750788000-1750788000@bainbridgetwp.com
SUMMARY:Zoning Commission Meeting
DESCRIPTION:
URL:https://bainbridgetwp.com/event/zoning-commission-meeting-43/
END:VEVENT
BEGIN:VEVENT
DTSTART;TZID=America/New_York:20250623T190000
DTEND;TZID=America/New_York:20250623T190000
DTSTAMP:20260424T152624
CREATED:20250107T192932Z
LAST-MODIFIED:20250620T172132Z
UID:20064-1750705200-1750705200@bainbridgetwp.com
SUMMARY:BOT Meeting
DESCRIPTION:
URL:https://bainbridgetwp.com/event/bot-meeting-84/
END:VEVENT
BEGIN:VEVENT
DTSTART;TZID=America/New_York:20250619T190000
DTEND;TZID=America/New_York:20250619T190000
DTSTAMP:20260424T152624
CREATED:20241231T150051Z
LAST-MODIFIED:20250605T124113Z
UID:19994-1750359600-1750359600@bainbridgetwp.com
SUMMARY:Board of Zoning Appeals Meeting
DESCRIPTION:
URL:https://bainbridgetwp.com/event/board-of-zoning-appeals-meeting-45/
END:VEVENT
BEGIN:VEVENT
DTSTART;TZID=America/New_York:20250609T190000
DTEND;TZID=America/New_York:20250609T190000
DTSTAMP:20260424T152624
CREATED:20250107T192832Z
LAST-MODIFIED:20250606T162707Z
UID:20062-1749495600-1749495600@bainbridgetwp.com
SUMMARY:BOT Meeting
DESCRIPTION:
URL:https://bainbridgetwp.com/event/bot-meeting-83/
END:VEVENT
BEGIN:VEVENT
DTSTART;TZID=America/New_York:20250527T190000
DTEND;TZID=America/New_York:20250527T190000
DTSTAMP:20260424T152624
CREATED:20250107T192749Z
LAST-MODIFIED:20250523T145917Z
UID:20060-1748372400-1748372400@bainbridgetwp.com
SUMMARY:BOT Meeting
DESCRIPTION:
URL:https://bainbridgetwp.com/event/bot-meeting-82/
END:VEVENT
BEGIN:VEVENT
DTSTART;TZID=America/New_York:20250527T180000
DTEND;TZID=America/New_York:20250527T180000
DTSTAMP:20260424T152624
CREATED:20241231T145929Z
LAST-MODIFIED:20250523T135807Z
UID:19991-1748368800-1748368800@bainbridgetwp.com
SUMMARY:Zoning Commission Meeting
DESCRIPTION:
URL:https://bainbridgetwp.com/event/zoning-commission-meeting-42/
END:VEVENT
BEGIN:VEVENT
DTSTART;TZID=America/New_York:20250515T190000
DTEND;TZID=America/New_York:20250515T190000
DTSTAMP:20260424T152624
CREATED:20241231T145826Z
LAST-MODIFIED:20250509T185447Z
UID:19989-1747335600-1747335600@bainbridgetwp.com
SUMMARY:Board of Zoning Appeals Meeting - CANCELED
DESCRIPTION:The Board of Zoning Appeals Meeting for May 15\, 2025 has been CANCELED. \nCall the Zoning Office at 440-543-9871\, Ext. 4221 if you have any questions. \n 
URL:https://bainbridgetwp.com/event/board-of-zoning-appeals-meeting-44/
END:VEVENT
BEGIN:VEVENT
DTSTART;TZID=America/New_York:20250512T190000
DTEND;TZID=America/New_York:20250512T190000
DTSTAMP:20260424T152624
CREATED:20250107T192706Z
LAST-MODIFIED:20250509T172356Z
UID:20058-1747076400-1747076400@bainbridgetwp.com
SUMMARY:BOT Meeting
DESCRIPTION:
URL:https://bainbridgetwp.com/event/bot-meeting-81/
END:VEVENT
BEGIN:VEVENT
DTSTART;TZID=America/New_York:20250429T180000
DTEND;TZID=America/New_York:20250429T180000
DTSTAMP:20260424T152624
CREATED:20241231T145716Z
LAST-MODIFIED:20250422T150134Z
UID:19987-1745949600-1745949600@bainbridgetwp.com
SUMMARY:Zoning Commission Meeting
DESCRIPTION:
URL:https://bainbridgetwp.com/event/zoning-commission-meeting-41/
END:VEVENT
BEGIN:VEVENT
DTSTART;TZID=America/New_York:20250428T190000
DTEND;TZID=America/New_York:20250428T190000
DTSTAMP:20260424T152624
CREATED:20250107T192355Z
LAST-MODIFIED:20250425T160306Z
UID:20055-1745866800-1745866800@bainbridgetwp.com
SUMMARY:BOT Meeting
DESCRIPTION:
URL:https://bainbridgetwp.com/event/bot-meeting-80/
END:VEVENT
BEGIN:VEVENT
DTSTART;TZID=America/New_York:20250428T073000
DTEND;TZID=America/New_York:20250503T120000
DTSTAMP:20260424T152624
CREATED:20250324T164802Z
LAST-MODIFIED:20250324T170100Z
UID:20323-1745825400-1746273600@bainbridgetwp.com
SUMMARY:Clean Up Days 2025
DESCRIPTION:
URL:https://bainbridgetwp.com/event/clean-up-days-2025/
LOCATION:Bainbridge Service Department Auxillary Lot\, 17800 Haskins Rd\, Chagrin Falls\, OH\, 44023\, United States
END:VEVENT
BEGIN:VEVENT
DTSTART;TZID=America/New_York:20250417T190000
DTEND;TZID=America/New_York:20250417T190000
DTSTAMP:20260424T152624
CREATED:20241231T145624Z
LAST-MODIFIED:20250408T145138Z
UID:19985-1744916400-1744916400@bainbridgetwp.com
SUMMARY:Board of Zoning Appeals Meeting - CANCELED
DESCRIPTION:The Board of Zoning Appeals meeting for April 17\, 2025 is canceled.
URL:https://bainbridgetwp.com/event/board-of-zoning-appeals-meeting-43/
END:VEVENT
BEGIN:VEVENT
DTSTART;TZID=America/New_York:20250414T190000
DTEND;TZID=America/New_York:20250414T190000
DTSTAMP:20260424T152624
CREATED:20250107T192310Z
LAST-MODIFIED:20250411T163252Z
UID:20053-1744657200-1744657200@bainbridgetwp.com
SUMMARY:BOT Meeting
DESCRIPTION:
URL:https://bainbridgetwp.com/event/bot-meeting-79/
END:VEVENT
BEGIN:VEVENT
DTSTART;TZID=America/New_York:20250407T170000
DTEND;TZID=America/New_York:20250407T170000
DTSTAMP:20260424T152624
CREATED:20250224T131546Z
LAST-MODIFIED:20250224T131926Z
UID:20235-1744045200-1744045200@bainbridgetwp.com
SUMMARY:BOT Meeting - Special
DESCRIPTION:
URL:https://bainbridgetwp.com/event/bot-meeting-special-22/
END:VEVENT
BEGIN:VEVENT
DTSTART;TZID=America/New_York:20250325T180000
DTEND;TZID=America/New_York:20250325T180000
DTSTAMP:20260424T152624
CREATED:20241231T145530Z
LAST-MODIFIED:20250319T165531Z
UID:19983-1742925600-1742925600@bainbridgetwp.com
SUMMARY:Zoning Commission Meeting
DESCRIPTION:
URL:https://bainbridgetwp.com/event/zoning-commission-meeting-40/
END:VEVENT
END:VCALENDAR