BEGIN:VCALENDAR
VERSION:2.0
PRODID:-//Bainbridge Township - ECPv6.15.20//NONSGML v1.0//EN
CALSCALE:GREGORIAN
METHOD:PUBLISH
X-WR-CALNAME:Bainbridge Township
X-ORIGINAL-URL:https://bainbridgetwp.com
X-WR-CALDESC:Events for Bainbridge Township
REFRESH-INTERVAL;VALUE=DURATION:PT1H
X-Robots-Tag:noindex
X-PUBLISHED-TTL:PT1H
BEGIN:VTIMEZONE
TZID:America/New_York
BEGIN:DAYLIGHT
TZOFFSETFROM:-0500
TZOFFSETTO:-0400
TZNAME:EDT
DTSTART:20250309T070000
END:DAYLIGHT
BEGIN:STANDARD
TZOFFSETFROM:-0400
TZOFFSETTO:-0500
TZNAME:EST
DTSTART:20251102T060000
END:STANDARD
BEGIN:DAYLIGHT
TZOFFSETFROM:-0500
TZOFFSETTO:-0400
TZNAME:EDT
DTSTART:20260308T070000
END:DAYLIGHT
BEGIN:STANDARD
TZOFFSETFROM:-0400
TZOFFSETTO:-0500
TZNAME:EST
DTSTART:20261101T060000
END:STANDARD
BEGIN:DAYLIGHT
TZOFFSETFROM:-0500
TZOFFSETTO:-0400
TZNAME:EDT
DTSTART:20270314T070000
END:DAYLIGHT
BEGIN:STANDARD
TZOFFSETFROM:-0400
TZOFFSETTO:-0500
TZNAME:EST
DTSTART:20271107T060000
END:STANDARD
END:VTIMEZONE
BEGIN:VEVENT
DTSTART;TZID=America/New_York:20260914T190000
DTEND;TZID=America/New_York:20260914T190000
DTSTAMP:20260424T121329
CREATED:20260102T200208Z
LAST-MODIFIED:20260102T200208Z
UID:21066-1789412400-1789412400@bainbridgetwp.com
SUMMARY:BOT Meeting
DESCRIPTION:
URL:https://bainbridgetwp.com/event/bot-meeting-113/
END:VEVENT
BEGIN:VEVENT
DTSTART;TZID=America/New_York:20260917T190000
DTEND;TZID=America/New_York:20260917T190000
DTSTAMP:20260424T121329
CREATED:20251230T192545Z
LAST-MODIFIED:20251230T192545Z
UID:20986-1789671600-1789671600@bainbridgetwp.com
SUMMARY:Board of Zoning Appeals Meeting
DESCRIPTION:
URL:https://bainbridgetwp.com/event/board-of-zoning-appeals-meeting-60/
END:VEVENT
BEGIN:VEVENT
DTSTART;TZID=America/New_York:20260928T190000
DTEND;TZID=America/New_York:20260928T190000
DTSTAMP:20260424T121329
CREATED:20260102T200255Z
LAST-MODIFIED:20260102T200255Z
UID:21068-1790622000-1790622000@bainbridgetwp.com
SUMMARY:BOT Meeting
DESCRIPTION:
URL:https://bainbridgetwp.com/event/bot-meeting-114/
END:VEVENT
BEGIN:VEVENT
DTSTART;TZID=America/New_York:20260929T180000
DTEND;TZID=America/New_York:20260929T180000
DTSTAMP:20260424T121329
CREATED:20251230T192630Z
LAST-MODIFIED:20251230T192630Z
UID:20988-1790704800-1790704800@bainbridgetwp.com
SUMMARY:Zoning Commission Meeting
DESCRIPTION:
URL:https://bainbridgetwp.com/event/zoning-commission-meeting-57/
END:VEVENT
BEGIN:VEVENT
DTSTART;VALUE=DATE:20261012
DTEND;VALUE=DATE:20261013
DTSTAMP:20260424T121329
CREATED:20251230T193940Z
LAST-MODIFIED:20251230T193940Z
UID:21016-1791763200-1791849599@bainbridgetwp.com
SUMMARY:Columbus Day
DESCRIPTION:Township Offices Closed
URL:https://bainbridgetwp.com/event/columbus-day/
END:VEVENT
BEGIN:VEVENT
DTSTART;TZID=America/New_York:20261012T190000
DTEND;TZID=America/New_York:20261012T190000
DTSTAMP:20260424T121329
CREATED:20260102T200343Z
LAST-MODIFIED:20260102T200343Z
UID:21070-1791831600-1791831600@bainbridgetwp.com
SUMMARY:BOT Meeting
DESCRIPTION:
URL:https://bainbridgetwp.com/event/bot-meeting-115/
END:VEVENT
BEGIN:VEVENT
DTSTART;TZID=America/New_York:20261015T190000
DTEND;TZID=America/New_York:20261015T190000
DTSTAMP:20260424T121329
CREATED:20251230T192721Z
LAST-MODIFIED:20251230T192721Z
UID:20990-1792090800-1792090800@bainbridgetwp.com
SUMMARY:Board of Zoning Appeals Meeting
DESCRIPTION:
URL:https://bainbridgetwp.com/event/board-of-zoning-appeals-meeting-61/
END:VEVENT
BEGIN:VEVENT
DTSTART;TZID=America/New_York:20261026T190000
DTEND;TZID=America/New_York:20261026T190000
DTSTAMP:20260424T121329
CREATED:20260102T200442Z
LAST-MODIFIED:20260102T200442Z
UID:21072-1793041200-1793041200@bainbridgetwp.com
SUMMARY:BOT Meeting
DESCRIPTION:
URL:https://bainbridgetwp.com/event/bot-meeting-116/
END:VEVENT
BEGIN:VEVENT
DTSTART;TZID=America/New_York:20261027T180000
DTEND;TZID=America/New_York:20261027T180000
DTSTAMP:20260424T121329
CREATED:20251230T192814Z
LAST-MODIFIED:20251230T192814Z
UID:20992-1793124000-1793124000@bainbridgetwp.com
SUMMARY:Zoning Commission Meeting
DESCRIPTION:
URL:https://bainbridgetwp.com/event/zoning-commission-meeting-58/
END:VEVENT
BEGIN:VEVENT
DTSTART;TZID=America/New_York:20261109T190000
DTEND;TZID=America/New_York:20261109T190000
DTSTAMP:20260424T121329
CREATED:20260102T200523Z
LAST-MODIFIED:20260102T200523Z
UID:21074-1794250800-1794250800@bainbridgetwp.com
SUMMARY:BOT Meeting
DESCRIPTION:
URL:https://bainbridgetwp.com/event/bot-meeting-117/
END:VEVENT
BEGIN:VEVENT
DTSTART;VALUE=DATE:20261111
DTEND;VALUE=DATE:20261112
DTSTAMP:20260424T121329
CREATED:20251230T194100Z
LAST-MODIFIED:20251230T194100Z
UID:21018-1794355200-1794441599@bainbridgetwp.com
SUMMARY:Veterans Day
DESCRIPTION:Township Offices Closed
URL:https://bainbridgetwp.com/event/veterans-day/
END:VEVENT
BEGIN:VEVENT
DTSTART;TZID=America/New_York:20261119T190000
DTEND;TZID=America/New_York:20261119T190000
DTSTAMP:20260424T121329
CREATED:20251230T192902Z
LAST-MODIFIED:20251230T192902Z
UID:20994-1795114800-1795114800@bainbridgetwp.com
SUMMARY:Board of Zoning Appeals Meeting
DESCRIPTION:
URL:https://bainbridgetwp.com/event/board-of-zoning-appeals-meeting-62/
END:VEVENT
BEGIN:VEVENT
DTSTART;TZID=America/New_York:20261123T190000
DTEND;TZID=America/New_York:20261123T190000
DTSTAMP:20260424T121329
CREATED:20260102T200637Z
LAST-MODIFIED:20260102T200637Z
UID:21076-1795460400-1795460400@bainbridgetwp.com
SUMMARY:BOT Meeting
DESCRIPTION:
URL:https://bainbridgetwp.com/event/bot-meeting-118/
END:VEVENT
BEGIN:VEVENT
DTSTART;TZID=America/New_York:20261124T180000
DTEND;TZID=America/New_York:20261124T180000
DTSTAMP:20260424T121329
CREATED:20251230T192955Z
LAST-MODIFIED:20251230T195827Z
UID:20996-1795543200-1795543200@bainbridgetwp.com
SUMMARY:Zoning Commission Meeting
DESCRIPTION:
URL:https://bainbridgetwp.com/event/zoning-commission-meeting-59/
END:VEVENT
BEGIN:VEVENT
DTSTART;VALUE=DATE:20261126
DTEND;VALUE=DATE:20261127
DTSTAMP:20260424T121329
CREATED:20251230T194151Z
LAST-MODIFIED:20251230T194151Z
UID:21020-1795651200-1795737599@bainbridgetwp.com
SUMMARY:Thanksgiving Day
DESCRIPTION:Township Offices Closed
URL:https://bainbridgetwp.com/event/thanksgiving-day/
END:VEVENT
BEGIN:VEVENT
DTSTART;VALUE=DATE:20261127
DTEND;VALUE=DATE:20261128
DTSTAMP:20260424T121329
CREATED:20251230T194242Z
LAST-MODIFIED:20251230T194242Z
UID:21022-1795737600-1795823999@bainbridgetwp.com
SUMMARY:Thanksgiving Holiday
DESCRIPTION:Township Offices Closed
URL:https://bainbridgetwp.com/event/thanksgiving-holiday/
END:VEVENT
BEGIN:VEVENT
DTSTART;TZID=America/New_York:20261207T190000
DTEND;TZID=America/New_York:20261207T190000
DTSTAMP:20260424T121329
CREATED:20260102T200722Z
LAST-MODIFIED:20260102T200722Z
UID:21078-1796670000-1796670000@bainbridgetwp.com
SUMMARY:BOT Meeting
DESCRIPTION:
URL:https://bainbridgetwp.com/event/bot-meeting-119/
END:VEVENT
BEGIN:VEVENT
DTSTART;TZID=America/New_York:20261217T190000
DTEND;TZID=America/New_York:20261217T190000
DTSTAMP:20260424T121329
CREATED:20251230T193053Z
LAST-MODIFIED:20251230T193053Z
UID:20998-1797534000-1797534000@bainbridgetwp.com
SUMMARY:Board of Zoning Appeals Meeting
DESCRIPTION:
URL:https://bainbridgetwp.com/event/board-of-zoning-appeals-meeting-63/
END:VEVENT
BEGIN:VEVENT
DTSTART;TZID=America/New_York:20261221T190000
DTEND;TZID=America/New_York:20261221T190000
DTSTAMP:20260424T121329
CREATED:20260102T200810Z
LAST-MODIFIED:20260102T200810Z
UID:21080-1797879600-1797879600@bainbridgetwp.com
SUMMARY:BOT Meeting
DESCRIPTION:
URL:https://bainbridgetwp.com/event/bot-meeting-120/
END:VEVENT
BEGIN:VEVENT
DTSTART;VALUE=DATE:20261225
DTEND;VALUE=DATE:20261226
DTSTAMP:20260424T121329
CREATED:20251230T194344Z
LAST-MODIFIED:20251230T194344Z
UID:21024-1798156800-1798243199@bainbridgetwp.com
SUMMARY:Christmas Day
DESCRIPTION:Township Offices Closed
URL:https://bainbridgetwp.com/event/christmas-day-2/
END:VEVENT
BEGIN:VEVENT
DTSTART;TZID=America/New_York:20261229T190000
DTEND;TZID=America/New_York:20261229T190000
DTSTAMP:20260424T121329
CREATED:20251230T193137Z
LAST-MODIFIED:20251230T193137Z
UID:21000-1798570800-1798570800@bainbridgetwp.com
SUMMARY:Zoning Commission Meeting
DESCRIPTION:
URL:https://bainbridgetwp.com/event/zoning-commission-meeting-60/
END:VEVENT
END:VCALENDAR