BEGIN:VCALENDAR
VERSION:2.0
PRODID:-//Bainbridge Township - ECPv6.15.20//NONSGML v1.0//EN
CALSCALE:GREGORIAN
METHOD:PUBLISH
X-ORIGINAL-URL:https://bainbridgetwp.com
X-WR-CALDESC:Events for Bainbridge Township
REFRESH-INTERVAL;VALUE=DURATION:PT1H
X-Robots-Tag:noindex
X-PUBLISHED-TTL:PT1H
BEGIN:VTIMEZONE
TZID:America/New_York
BEGIN:DAYLIGHT
TZOFFSETFROM:-0500
TZOFFSETTO:-0400
TZNAME:EDT
DTSTART:20240310T070000
END:DAYLIGHT
BEGIN:STANDARD
TZOFFSETFROM:-0400
TZOFFSETTO:-0500
TZNAME:EST
DTSTART:20241103T060000
END:STANDARD
BEGIN:DAYLIGHT
TZOFFSETFROM:-0500
TZOFFSETTO:-0400
TZNAME:EDT
DTSTART:20250309T070000
END:DAYLIGHT
BEGIN:STANDARD
TZOFFSETFROM:-0400
TZOFFSETTO:-0500
TZNAME:EST
DTSTART:20251102T060000
END:STANDARD
BEGIN:DAYLIGHT
TZOFFSETFROM:-0500
TZOFFSETTO:-0400
TZNAME:EDT
DTSTART:20260308T070000
END:DAYLIGHT
BEGIN:STANDARD
TZOFFSETFROM:-0400
TZOFFSETTO:-0500
TZNAME:EST
DTSTART:20261101T060000
END:STANDARD
BEGIN:DAYLIGHT
TZOFFSETFROM:-0500
TZOFFSETTO:-0400
TZNAME:EDT
DTSTART:20270314T070000
END:DAYLIGHT
BEGIN:STANDARD
TZOFFSETFROM:-0400
TZOFFSETTO:-0500
TZNAME:EST
DTSTART:20271107T060000
END:STANDARD
END:VTIMEZONE
BEGIN:VEVENT
DTSTART;VALUE=DATE:20260119
DTEND;VALUE=DATE:20260120
DTSTAMP:20260424T115811
CREATED:20251230T193354Z
LAST-MODIFIED:20251230T193354Z
UID:21004-1768780800-1768867199@bainbridgetwp.com
SUMMARY:Martin Luther King Jr. Day
DESCRIPTION:Township Offices Closed
URL:https://bainbridgetwp.com/event/martin-luther-king-jr-day/
END:VEVENT
BEGIN:VEVENT
DTSTART;TZID=America/New_York:20260115T190000
DTEND;TZID=America/New_York:20260115T190000
DTSTAMP:20260424T115811
CREATED:20251230T190400Z
LAST-MODIFIED:20260115T204219Z
UID:20953-1768503600-1768503600@bainbridgetwp.com
SUMMARY:Board of Zoning Appeals Meeting - CANCELED
DESCRIPTION:The Board of Zoning Appeals meeting for tonight has been canceled due to inclement weather. \n 
URL:https://bainbridgetwp.com/event/board-of-zoning-appeals-meeting-52/
END:VEVENT
BEGIN:VEVENT
DTSTART;TZID=America/New_York:20260112T173000
DTEND;TZID=America/New_York:20260112T173000
DTSTAMP:20260424T115811
CREATED:20260106T202455Z
LAST-MODIFIED:20260106T203508Z
UID:21102-1768239000-1768239000@bainbridgetwp.com
SUMMARY:BOT Meeting - Special
DESCRIPTION:
URL:https://bainbridgetwp.com/event/bot-meeting-special-27/
END:VEVENT
BEGIN:VEVENT
DTSTART;TZID=America/New_York:20260105T190000
DTEND;TZID=America/New_York:20260105T190000
DTSTAMP:20260424T115811
CREATED:20251230T185437Z
LAST-MODIFIED:20260102T183559Z
UID:20948-1767639600-1767639600@bainbridgetwp.com
SUMMARY:BOT Meeting
DESCRIPTION:
URL:https://bainbridgetwp.com/event/bot-meeting-97/
END:VEVENT
BEGIN:VEVENT
DTSTART;TZID=America/New_York:20260105T181500
DTEND;TZID=America/New_York:20260105T181500
DTSTAMP:20260424T115811
CREATED:20251016T130337Z
LAST-MODIFIED:20260102T184039Z
UID:20780-1767636900-1767636900@bainbridgetwp.com
SUMMARY:BOT Meeting - Organizational
DESCRIPTION:
URL:https://bainbridgetwp.com/event/bot-meeting-organizational-3/
END:VEVENT
BEGIN:VEVENT
DTSTART;VALUE=DATE:20260101
DTEND;VALUE=DATE:20260102
DTSTAMP:20260424T115811
CREATED:20251230T193239Z
LAST-MODIFIED:20251230T193239Z
UID:21002-1767225600-1767311999@bainbridgetwp.com
SUMMARY:New Year's Day
DESCRIPTION:TOWNSHIP OFFICES CLOSED
URL:https://bainbridgetwp.com/event/new-years-day/
END:VEVENT
BEGIN:VEVENT
DTSTART;TZID=America/New_York:20251230T180000
DTEND;TZID=America/New_York:20251230T180000
DTSTAMP:20260424T115811
CREATED:20241231T151406Z
LAST-MODIFIED:20251202T165323Z
UID:20021-1767117600-1767117600@bainbridgetwp.com
SUMMARY:Zoning Commission Meeting -Canceled
DESCRIPTION:The Zoning Commission meeting for December 30\, 2025 has been canceled.
URL:https://bainbridgetwp.com/event/zoning-commission-meeting-48/
END:VEVENT
BEGIN:VEVENT
DTSTART;TZID=America/New_York:20251218T190000
DTEND;TZID=America/New_York:20251218T190000
DTSTAMP:20260424T115811
CREATED:20241231T151304Z
LAST-MODIFIED:20251218T135425Z
UID:20019-1766084400-1766084400@bainbridgetwp.com
SUMMARY:Board of Zoning Appeals Meeting
DESCRIPTION:There is no public hearing for this meeting\, however\, the Board of Zoning Appeals will be meeting to approve the November 20\, 2025 meeting minutes only. \nThe meeting will be held at the Burns-Lindow Building – 8465 Bainbridge Road – 7:00 P.M.
URL:https://bainbridgetwp.com/event/board-of-zoning-appeals-meeting-51/
END:VEVENT
BEGIN:VEVENT
DTSTART;TZID=America/New_York:20251215T190000
DTEND;TZID=America/New_York:20251215T190000
DTSTAMP:20260424T115811
CREATED:20251212T190221Z
LAST-MODIFIED:20251218T135714Z
UID:20913-1765825200-1765825200@bainbridgetwp.com
SUMMARY:BOT Meeting
DESCRIPTION:
URL:https://bainbridgetwp.com/event/bot-meeting-95/
END:VEVENT
BEGIN:VEVENT
DTSTART;TZID=America/New_York:20251208T170000
DTEND;TZID=America/New_York:20251208T170000
DTSTAMP:20260424T115811
CREATED:20251202T181952Z
LAST-MODIFIED:20251202T181952Z
UID:20889-1765213200-1765213200@bainbridgetwp.com
SUMMARY:BOT Meeting - Special
DESCRIPTION:
URL:https://bainbridgetwp.com/event/bot-meeting-special-26/
END:VEVENT
BEGIN:VEVENT
DTSTART;TZID=America/New_York:20251129T190000
DTEND;TZID=America/New_York:20251129T193000
DTSTAMP:20260424T115811
CREATED:20250930T115441Z
LAST-MODIFIED:20251124T095344Z
UID:20721-1764442800-1764444600@bainbridgetwp.com
SUMMARY:Holiday Tree Lighting at Heritage Park
DESCRIPTION:
URL:https://bainbridgetwp.com/event/holiday-tree-lighting-at-heritage-park/
END:VEVENT
BEGIN:VEVENT
DTSTART;TZID=America/New_York:20251125T180000
DTEND;TZID=America/New_York:20251125T180000
DTSTAMP:20260424T115811
CREATED:20241231T151158Z
LAST-MODIFIED:20251114T140320Z
UID:20017-1764093600-1764093600@bainbridgetwp.com
SUMMARY:Zoning Commission Meeting
DESCRIPTION:
URL:https://bainbridgetwp.com/event/zoning-commission-meeting-47/
END:VEVENT
BEGIN:VEVENT
DTSTART;TZID=America/New_York:20251124T190000
DTEND;TZID=America/New_York:20251124T190000
DTSTAMP:20260424T115811
CREATED:20250107T193741Z
LAST-MODIFIED:20251121T174857Z
UID:20082-1764010800-1764010800@bainbridgetwp.com
SUMMARY:BOT Meeting
DESCRIPTION:
URL:https://bainbridgetwp.com/event/bot-meeting-93/
END:VEVENT
BEGIN:VEVENT
DTSTART;TZID=America/New_York:20251120T190000
DTEND;TZID=America/New_York:20251120T190000
DTSTAMP:20260424T115811
CREATED:20241231T151105Z
LAST-MODIFIED:20251110T130306Z
UID:20015-1763665200-1763665200@bainbridgetwp.com
SUMMARY:Board of Zoning Appeals Meeting
DESCRIPTION:
URL:https://bainbridgetwp.com/event/board-of-zoning-appeals-meeting-50/
END:VEVENT
BEGIN:VEVENT
DTSTART;TZID=America/New_York:20251117T160000
DTEND;TZID=America/New_York:20251117T160000
DTSTAMP:20260424T115811
CREATED:20251114T134928Z
LAST-MODIFIED:20251114T134928Z
UID:20844-1763395200-1763395200@bainbridgetwp.com
SUMMARY:BOT Meeting - Special
DESCRIPTION:BAINBRIDGE TOWNSHIP BOARD OF TRUSTEES  \nSPECIAL MEETING \nThe Bainbridge Township Board of Trustees will be meeting at 4:00 P.M. on Monday\, November 17\, 2025\, at the Bainbridge Township Fiscal Office\, 17822 Chillicothe Road\, (Bainbridge Township Fire Station) under New Business\, for the purpose of discussing the MOU for the Rails to Trails. \n 
URL:https://bainbridgetwp.com/event/bot-meeting-special-25/
END:VEVENT
BEGIN:VEVENT
DTSTART;TZID=America/New_York:20251110T190000
DTEND;TZID=America/New_York:20251110T190000
DTSTAMP:20260424T115811
CREATED:20250107T193647Z
LAST-MODIFIED:20251107T181555Z
UID:20080-1762801200-1762801200@bainbridgetwp.com
SUMMARY:BOT Meeting
DESCRIPTION:BOT Meeting
URL:https://bainbridgetwp.com/event/bot-meeting-92/
END:VEVENT
BEGIN:VEVENT
DTSTART;TZID=America/New_York:20251028T180000
DTEND;TZID=America/New_York:20251028T180000
DTSTAMP:20260424T115811
CREATED:20241231T151013Z
LAST-MODIFIED:20251024T182336Z
UID:20013-1761674400-1761674400@bainbridgetwp.com
SUMMARY:Zoning Commission Meeting
DESCRIPTION:
URL:https://bainbridgetwp.com/event/zoning-commission-meeting-46/
END:VEVENT
BEGIN:VEVENT
DTSTART;TZID=America/New_York:20251027T190000
DTEND;TZID=America/New_York:20251027T190000
DTSTAMP:20260424T115811
CREATED:20250107T193557Z
LAST-MODIFIED:20251024T181909Z
UID:20078-1761591600-1761591600@bainbridgetwp.com
SUMMARY:BOT Meeting
DESCRIPTION:
URL:https://bainbridgetwp.com/event/bot-meeting-91/
END:VEVENT
BEGIN:VEVENT
DTSTART;TZID=America/New_York:20251021T180000
DTEND;TZID=America/New_York:20251021T180000
DTSTAMP:20260424T115811
CREATED:20251016T124841Z
LAST-MODIFIED:20251016T125036Z
UID:20776-1761069600-1761069600@bainbridgetwp.com
SUMMARY:BOT Meeting - Special
DESCRIPTION:Special Executive Session at 6:00 P.M. to be held at the Bainbridge Township Fiscal Office – 17822 Chillicothe Road for the purpose of discussing the employment\, compensation and discipline of a public employee per (ORC 121.22(G)(1)).
URL:https://bainbridgetwp.com/event/bot-meeting-special-24/
END:VEVENT
BEGIN:VEVENT
DTSTART;TZID=America/New_York:20251016T190000
DTEND;TZID=America/New_York:20251016T190000
DTSTAMP:20260424T115811
CREATED:20241231T150924Z
LAST-MODIFIED:20251003T155229Z
UID:20011-1760641200-1760641200@bainbridgetwp.com
SUMMARY:Board of Zoning Appeals Meeting
DESCRIPTION:
URL:https://bainbridgetwp.com/event/board-of-zoning-appeals-meeting-49/
END:VEVENT
BEGIN:VEVENT
DTSTART;TZID=America/New_York:20251013T190000
DTEND;TZID=America/New_York:20251013T190000
DTSTAMP:20260424T115811
CREATED:20250107T193511Z
LAST-MODIFIED:20251010T135242Z
UID:20076-1760382000-1760382000@bainbridgetwp.com
SUMMARY:BOT Meeting
DESCRIPTION:
URL:https://bainbridgetwp.com/event/bot-meeting-90/
END:VEVENT
BEGIN:VEVENT
DTSTART;TZID=America/New_York:20250930T180000
DTEND;TZID=America/New_York:20250930T180000
DTSTAMP:20260424T115811
CREATED:20241231T150740Z
LAST-MODIFIED:20250108T183135Z
UID:20009-1759255200-1759255200@bainbridgetwp.com
SUMMARY:Zoning Commission Meeting
DESCRIPTION:
URL:https://bainbridgetwp.com/event/zoning-commission-meeting-45/
END:VEVENT
BEGIN:VEVENT
DTSTART;TZID=America/New_York:20250922T190000
DTEND;TZID=America/New_York:20250922T190000
DTSTAMP:20260424T115811
CREATED:20250107T193428Z
LAST-MODIFIED:20250922T120259Z
UID:20074-1758567600-1758567600@bainbridgetwp.com
SUMMARY:BOT Meeting
DESCRIPTION:
URL:https://bainbridgetwp.com/event/bot-meeting-89/
END:VEVENT
BEGIN:VEVENT
DTSTART;TZID=America/New_York:20250918T190000
DTEND;TZID=America/New_York:20250918T190000
DTSTAMP:20260424T115811
CREATED:20250908T125450Z
LAST-MODIFIED:20250908T125556Z
UID:20676-1758222000-1758222000@bainbridgetwp.com
SUMMARY:Board of Zoning Appeals Meeting
DESCRIPTION:
URL:https://bainbridgetwp.com/event/board-of-zoning-appeals-meeting-48/
END:VEVENT
BEGIN:VEVENT
DTSTART;TZID=America/New_York:20250908T190000
DTEND;TZID=America/New_York:20250908T190000
DTSTAMP:20260424T115811
CREATED:20250107T193344Z
LAST-MODIFIED:20250905T153818Z
UID:20057-1757358000-1757358000@bainbridgetwp.com
SUMMARY:BOT Meeting
DESCRIPTION:
URL:https://bainbridgetwp.com/event/bot-meeting-88/
END:VEVENT
BEGIN:VEVENT
DTSTART;TZID=America/New_York:20250826T180000
DTEND;TZID=America/New_York:20250826T180000
DTSTAMP:20260424T115811
CREATED:20241231T150530Z
LAST-MODIFIED:20250822T183417Z
UID:20005-1756231200-1756231200@bainbridgetwp.com
SUMMARY:Zoning Commission Meeting
DESCRIPTION:
URL:https://bainbridgetwp.com/event/zoning-commission-meeting-44/
END:VEVENT
BEGIN:VEVENT
DTSTART;TZID=America/New_York:20250825T190000
DTEND;TZID=America/New_York:20250825T190000
DTSTAMP:20260424T115811
CREATED:20250107T195843Z
LAST-MODIFIED:20250822T183020Z
UID:20088-1756148400-1756148400@bainbridgetwp.com
SUMMARY:BOT Meeting
DESCRIPTION:
URL:https://bainbridgetwp.com/event/bot-meeting-96/
END:VEVENT
BEGIN:VEVENT
DTSTART;TZID=America/New_York:20250821T190000
DTEND;TZID=America/New_York:20250821T190000
DTSTAMP:20260424T115811
CREATED:20241231T150426Z
LAST-MODIFIED:20250807T132634Z
UID:20003-1755802800-1755802800@bainbridgetwp.com
SUMMARY:Board of Zoning Appeals Meeting
DESCRIPTION:
URL:https://bainbridgetwp.com/event/board-of-zoning-appeals-meeting-47/
END:VEVENT
BEGIN:VEVENT
DTSTART;TZID=America/New_York:20250818T170000
DTEND;TZID=America/New_York:20250818T170000
DTSTAMP:20260424T115811
CREATED:20250815T123351Z
LAST-MODIFIED:20250815T123351Z
UID:20576-1755536400-1755536400@bainbridgetwp.com
SUMMARY:Board of Trustees - Special Meeting
DESCRIPTION:BOT Special Meeting Notice – ES – August 18\, 2025
URL:https://bainbridgetwp.com/event/board-of-trustees-special-meeting-4/
END:VEVENT
BEGIN:VEVENT
DTSTART;TZID=America/New_York:20250811T190000
DTEND;TZID=America/New_York:20250811T190000
DTSTAMP:20260424T115811
CREATED:20250107T193201Z
LAST-MODIFIED:20250808T152506Z
UID:20070-1754938800-1754938800@bainbridgetwp.com
SUMMARY:BOT Meeting
DESCRIPTION:
URL:https://bainbridgetwp.com/event/bot-meeting-87/
END:VEVENT
END:VCALENDAR