BEGIN:VCALENDAR
VERSION:2.0
PRODID:-//Bainbridge Township - ECPv6.15.20//NONSGML v1.0//EN
CALSCALE:GREGORIAN
METHOD:PUBLISH
X-WR-CALNAME:Bainbridge Township
X-ORIGINAL-URL:https://bainbridgetwp.com
X-WR-CALDESC:Events for Bainbridge Township
REFRESH-INTERVAL;VALUE=DURATION:PT1H
X-Robots-Tag:noindex
X-PUBLISHED-TTL:PT1H
BEGIN:VTIMEZONE
TZID:America/New_York
BEGIN:DAYLIGHT
TZOFFSETFROM:-0500
TZOFFSETTO:-0400
TZNAME:EDT
DTSTART:20210314T070000
END:DAYLIGHT
BEGIN:STANDARD
TZOFFSETFROM:-0400
TZOFFSETTO:-0500
TZNAME:EST
DTSTART:20211107T060000
END:STANDARD
BEGIN:DAYLIGHT
TZOFFSETFROM:-0500
TZOFFSETTO:-0400
TZNAME:EDT
DTSTART:20220313T070000
END:DAYLIGHT
BEGIN:STANDARD
TZOFFSETFROM:-0400
TZOFFSETTO:-0500
TZNAME:EST
DTSTART:20221106T060000
END:STANDARD
BEGIN:DAYLIGHT
TZOFFSETFROM:-0500
TZOFFSETTO:-0400
TZNAME:EDT
DTSTART:20230312T070000
END:DAYLIGHT
BEGIN:STANDARD
TZOFFSETFROM:-0400
TZOFFSETTO:-0500
TZNAME:EST
DTSTART:20231105T060000
END:STANDARD
BEGIN:DAYLIGHT
TZOFFSETFROM:-0500
TZOFFSETTO:-0400
TZNAME:EDT
DTSTART:20240310T070000
END:DAYLIGHT
BEGIN:STANDARD
TZOFFSETFROM:-0400
TZOFFSETTO:-0500
TZNAME:EST
DTSTART:20241103T060000
END:STANDARD
END:VTIMEZONE
BEGIN:VEVENT
DTSTART;TZID=America/New_York:20230420T190000
DTEND;TZID=America/New_York:20230420T190000
DTSTAMP:20260425T210120
CREATED:20230103T144845Z
LAST-MODIFIED:20230406T155452Z
UID:17500-1682017200-1682017200@bainbridgetwp.com
SUMMARY:Board of Zoning Appeals Meeting
DESCRIPTION:
URL:https://bainbridgetwp.com/event/board-of-zoning-appeals-meeting-19/
LOCATION:Bainbridge Town Hall\, 17826 Chillicothe Road\, Chagrin Falls\, OH\, 44023\, United States
END:VEVENT
BEGIN:VEVENT
DTSTART;TZID=America/New_York:20230410T190000
DTEND;TZID=America/New_York:20230410T190000
DTSTAMP:20260425T210120
CREATED:20230110T144128Z
LAST-MODIFIED:20230407T145729Z
UID:17603-1681153200-1681153200@bainbridgetwp.com
SUMMARY:BOT Meeting
DESCRIPTION:
URL:https://bainbridgetwp.com/event/bot-meeting-30/
LOCATION:Bainbridge Town Hall\, 17826 Chillicothe Road\, Chagrin Falls\, OH\, 44023\, United States
END:VEVENT
BEGIN:VEVENT
DTSTART;TZID=America/New_York:20230410T173000
DTEND;TZID=America/New_York:20230410T173000
DTSTAMP:20260425T210120
CREATED:20230403T150335Z
LAST-MODIFIED:20230403T150500Z
UID:17874-1681147800-1681147800@bainbridgetwp.com
SUMMARY:Settlers Park Playground Opening
DESCRIPTION:Please join the Bainbridge Township Board of Trustees for the Settlers Park Playground Opening at \n17800 Haskins Road – 5:30 P.M.
URL:https://bainbridgetwp.com/event/settlers-park-playground-opening/
CATEGORIES:Community Events,Home page
END:VEVENT
BEGIN:VEVENT
DTSTART;TZID=America/New_York:20230401T100000
DTEND;TZID=America/New_York:20230401T120000
DTSTAMP:20260425T210120
CREATED:20230227T131510Z
LAST-MODIFIED:20230227T135131Z
UID:17789-1680343200-1680350400@bainbridgetwp.com
SUMMARY:Fire Department Easter Egg Hunt - April 1\, 2023
DESCRIPTION:
URL:https://bainbridgetwp.com/event/fire-department-easter-egg-hunt-april-1-2023/
CATEGORIES:Community Events,Home page
END:VEVENT
BEGIN:VEVENT
DTSTART;TZID=America/New_York:20230328T190000
DTEND;TZID=America/New_York:20230328T190000
DTSTAMP:20260425T210120
CREATED:20230103T144731Z
LAST-MODIFIED:20230323T122639Z
UID:17498-1680030000-1680030000@bainbridgetwp.com
SUMMARY:Zoning Commission Meeting
DESCRIPTION:
URL:https://bainbridgetwp.com/event/zoning-commission-meeting-16/
LOCATION:Bainbridge Town Hall\, 17826 Chillicothe Road\, Chagrin Falls\, OH\, 44023\, United States
END:VEVENT
BEGIN:VEVENT
DTSTART;TZID=America/New_York:20230327T190000
DTEND;TZID=America/New_York:20230327T190000
DTSTAMP:20260425T210120
CREATED:20230110T144041Z
LAST-MODIFIED:20230324T144544Z
UID:17601-1679943600-1679943600@bainbridgetwp.com
SUMMARY:BOT Meeting
DESCRIPTION:
URL:https://bainbridgetwp.com/event/bot-meeting-29/
LOCATION:Bainbridge Town Hall\, 17826 Chillicothe Road\, Chagrin Falls\, OH\, 44023\, United States
END:VEVENT
BEGIN:VEVENT
DTSTART;TZID=America/New_York:20230320T173000
DTEND;TZID=America/New_York:20230320T173000
DTSTAMP:20260425T210120
CREATED:20230309T152639Z
LAST-MODIFIED:20230309T152639Z
UID:17818-1679333400-1679333400@bainbridgetwp.com
SUMMARY:BOT Meeting - Special
DESCRIPTION:
URL:https://bainbridgetwp.com/event/bot-meeting-special-10/
END:VEVENT
BEGIN:VEVENT
DTSTART;TZID=America/New_York:20230316T190000
DTEND;TZID=America/New_York:20230316T190000
DTSTAMP:20260425T210120
CREATED:20230103T144645Z
LAST-MODIFIED:20230302T141810Z
UID:17496-1678993200-1678993200@bainbridgetwp.com
SUMMARY:Board of Zoning Appeals Meeting
DESCRIPTION:
URL:https://bainbridgetwp.com/event/board-of-zoning-appeals-meeting-18/
LOCATION:Bainbridge Town Hall\, 17826 Chillicothe Road\, Chagrin Falls\, OH\, 44023\, United States
END:VEVENT
BEGIN:VEVENT
DTSTART;TZID=America/New_York:20230316T173000
DTEND;TZID=America/New_York:20230316T173000
DTSTAMP:20260425T210120
CREATED:20230315T165133Z
LAST-MODIFIED:20230315T165315Z
UID:17836-1678987800-1678987800@bainbridgetwp.com
SUMMARY:BOT Meeting - Special
DESCRIPTION:
URL:https://bainbridgetwp.com/event/bot-meeting-special-11/
LOCATION:Bainbridge Town Hall\, 17826 Chillicothe Road\, Chagrin Falls\, OH\, 44023\, United States
END:VEVENT
BEGIN:VEVENT
DTSTART;TZID=America/New_York:20230313T190000
DTEND;TZID=America/New_York:20230313T190000
DTSTAMP:20260425T210120
CREATED:20230110T143959Z
LAST-MODIFIED:20230310T195901Z
UID:17599-1678734000-1678734000@bainbridgetwp.com
SUMMARY:BOT Meeting
DESCRIPTION:
URL:https://bainbridgetwp.com/event/bot-meeting-28/
LOCATION:Bainbridge Town Hall\, 17826 Chillicothe Road\, Chagrin Falls\, OH\, 44023\, United States
END:VEVENT
BEGIN:VEVENT
DTSTART;TZID=America/New_York:20230306T180000
DTEND;TZID=America/New_York:20230306T180000
DTSTAMP:20260425T210120
CREATED:20230306T185324Z
LAST-MODIFIED:20230306T185632Z
UID:17805-1678125600-1678125600@bainbridgetwp.com
SUMMARY:BOT MEETING - SPECIAL
DESCRIPTION:
URL:https://bainbridgetwp.com/event/bot-meeting-special-9/
END:VEVENT
BEGIN:VEVENT
DTSTART;TZID=America/New_York:20230228T190000
DTEND;TZID=America/New_York:20230228T190000
DTSTAMP:20260425T210120
CREATED:20230103T144448Z
LAST-MODIFIED:20230223T203157Z
UID:17492-1677610800-1677610800@bainbridgetwp.com
SUMMARY:Zoning Commission Meeting
DESCRIPTION:
URL:https://bainbridgetwp.com/event/zoning-commission-meeting-15/
LOCATION:Bainbridge Town Hall\, 17826 Chillicothe Road\, Chagrin Falls\, OH\, 44023\, United States
END:VEVENT
BEGIN:VEVENT
DTSTART;TZID=America/New_York:20230227T190000
DTEND;TZID=America/New_York:20230227T190000
DTSTAMP:20260425T210120
CREATED:20230110T143728Z
LAST-MODIFIED:20230224T182654Z
UID:17597-1677524400-1677524400@bainbridgetwp.com
SUMMARY:BOT Meeting
DESCRIPTION:
URL:https://bainbridgetwp.com/event/bot-meeting-27/
LOCATION:Bainbridge Town Hall\, 17826 Chillicothe Road\, Chagrin Falls\, OH\, 44023\, United States
END:VEVENT
BEGIN:VEVENT
DTSTART;VALUE=DATE:20230220
DTEND;VALUE=DATE:20230221
DTSTAMP:20260425T210120
CREATED:20230103T144530Z
LAST-MODIFIED:20230103T144530Z
UID:17494-1676851200-1676937599@bainbridgetwp.com
SUMMARY:Presidents' Day - Closed
DESCRIPTION:
URL:https://bainbridgetwp.com/event/presidents-day-closed/
END:VEVENT
BEGIN:VEVENT
DTSTART;TZID=America/New_York:20230216T190000
DTEND;TZID=America/New_York:20230216T190000
DTSTAMP:20260425T210120
CREATED:20230103T144142Z
LAST-MODIFIED:20230201T185734Z
UID:17490-1676574000-1676574000@bainbridgetwp.com
SUMMARY:Board of Zoning Appeals Meeting
DESCRIPTION:
URL:https://bainbridgetwp.com/event/board-of-zoning-appeals-meeting-17/
LOCATION:Bainbridge Town Hall\, 17826 Chillicothe Road\, Chagrin Falls\, OH\, 44023\, United States
END:VEVENT
BEGIN:VEVENT
DTSTART;VALUE=DATE:20230214
DTEND;VALUE=DATE:20230215
DTSTAMP:20260425T210120
CREATED:20230213T194427Z
LAST-MODIFIED:20230213T194427Z
UID:17737-1676332800-1676419199@bainbridgetwp.com
SUMMARY:Test Event
DESCRIPTION:
URL:https://bainbridgetwp.com/event/test-event/
LOCATION:Bainbridge Town Hall\, 17826 Chillicothe Road\, Chagrin Falls\, OH\, 44023\, United States
END:VEVENT
BEGIN:VEVENT
DTSTART;TZID=America/New_York:20230213T190000
DTEND;TZID=America/New_York:20230213T190000
DTSTAMP:20260425T210120
CREATED:20230110T143646Z
LAST-MODIFIED:20230210T133918Z
UID:17595-1676314800-1676314800@bainbridgetwp.com
SUMMARY:BOT Meeting
DESCRIPTION:
URL:https://bainbridgetwp.com/event/bot-meeting-26/
LOCATION:Bainbridge Town Hall\, 17826 Chillicothe Road\, Chagrin Falls\, OH\, 44023\, United States
END:VEVENT
BEGIN:VEVENT
DTSTART;TZID=America/New_York:20230206T173000
DTEND;TZID=America/New_York:20230206T173000
DTSTAMP:20260425T210120
CREATED:20230203T204413Z
LAST-MODIFIED:20230203T204517Z
UID:17704-1675704600-1675704600@bainbridgetwp.com
SUMMARY:BOT Special Meeting
DESCRIPTION:
URL:https://bainbridgetwp.com/event/bot-special-meeting/
END:VEVENT
BEGIN:VEVENT
DTSTART;TZID=America/New_York:20230131T190000
DTEND;TZID=America/New_York:20230131T190000
DTSTAMP:20260425T210120
CREATED:20230103T144026Z
LAST-MODIFIED:20230125T133201Z
UID:17488-1675191600-1675191600@bainbridgetwp.com
SUMMARY:Zoning Commission Meeting
DESCRIPTION:
URL:https://bainbridgetwp.com/event/zoning-commission-meeting-13/
LOCATION:Bainbridge Town Hall\, 17826 Chillicothe Road\, Chagrin Falls\, OH\, 44023\, United States
END:VEVENT
BEGIN:VEVENT
DTSTART;TZID=America/New_York:20230123T190000
DTEND;TZID=America/New_York:20230123T190000
DTSTAMP:20260425T210120
CREATED:20230110T143536Z
LAST-MODIFIED:20230120T172549Z
UID:17593-1674500400-1674500400@bainbridgetwp.com
SUMMARY:BOT Meeting
DESCRIPTION:
URL:https://bainbridgetwp.com/event/bot-meeting-25/
LOCATION:Bainbridge Town Hall\, 17826 Chillicothe Road\, Chagrin Falls\, OH\, 44023\, United States
END:VEVENT
BEGIN:VEVENT
DTSTART;TZID=America/New_York:20230119T190000
DTEND;TZID=America/New_York:20230119T190000
DTSTAMP:20260425T210120
CREATED:20230103T143944Z
LAST-MODIFIED:20230104T184532Z
UID:17485-1674154800-1674154800@bainbridgetwp.com
SUMMARY:Board of Zoning Appeals Meeting
DESCRIPTION:
URL:https://bainbridgetwp.com/event/board-of-zoning-appeals-meeting-16/
LOCATION:Bainbridge Town Hall\, 17826 Chillicothe Road\, Chagrin Falls\, OH\, 44023\, United States
END:VEVENT
BEGIN:VEVENT
DTSTART;VALUE=DATE:20230116
DTEND;VALUE=DATE:20230117
DTSTAMP:20260425T210120
CREATED:20230103T141816Z
LAST-MODIFIED:20230103T141816Z
UID:17483-1673827200-1673913599@bainbridgetwp.com
SUMMARY:Martin Luther King Jr. Day - Closed
DESCRIPTION:
URL:https://bainbridgetwp.com/event/martin-luther-king-jr-day-closed/
END:VEVENT
BEGIN:VEVENT
DTSTART;TZID=America/New_York:20230109T190000
DTEND;TZID=America/New_York:20230109T190000
DTSTAMP:20260425T210120
CREATED:20230109T160112Z
LAST-MODIFIED:20230109T160112Z
UID:17583-1673290800-1673290800@bainbridgetwp.com
SUMMARY:BOT Meeting
DESCRIPTION:
URL:https://bainbridgetwp.com/event/bot-meeting-23/
END:VEVENT
BEGIN:VEVENT
DTSTART;TZID=America/New_York:20230109T180000
DTEND;TZID=America/New_York:20230109T180000
DTSTAMP:20260425T210120
CREATED:20221122T153511Z
LAST-MODIFIED:20230106T162756Z
UID:17417-1673287200-1673287200@bainbridgetwp.com
SUMMARY:BOT Meeting - Organizational
DESCRIPTION:Regular meeting starts at 7:00 P.M.
URL:https://bainbridgetwp.com/event/bot-meeting-organizational-2/
LOCATION:Bainbridge Town Hall\, 17826 Chillicothe Road\, Chagrin Falls\, OH\, 44023\, United States
END:VEVENT
BEGIN:VEVENT
DTSTART;TZID=America/New_York:20221227T180000
DTEND;TZID=America/New_York:20221227T180000
DTSTAMP:20260425T210120
CREATED:20220107T193059Z
LAST-MODIFIED:20221221T201900Z
UID:16502-1672164000-1672164000@bainbridgetwp.com
SUMMARY:Zoning Commission Meeting - Canceled
DESCRIPTION:The start time for the Zoning Commission meeting has been changed to 6:00 PM. \nThis meeting has been canceled. \n 
URL:https://bainbridgetwp.com/event/zoning-commission-meeting-december-27-2022/
CATEGORIES:Zoning Commission Meeting
END:VEVENT
BEGIN:VEVENT
DTSTART;TZID=America/New_York:20221227T070000
DTEND;TZID=America/New_York:20230201T150000
DTSTAMP:20260425T210120
CREATED:20220525T124422Z
LAST-MODIFIED:20230111T151512Z
UID:16990-1672124400-1675263600@bainbridgetwp.com
SUMMARY:Christmas Tree Drop Off
DESCRIPTION:Service Department Auxiliary Lot – 17800 Haskins Road
URL:https://bainbridgetwp.com/event/christmas-tree-drop-off-starts/
END:VEVENT
BEGIN:VEVENT
DTSTART;VALUE=DATE:20221226
DTEND;VALUE=DATE:20221227
DTSTAMP:20260425T210120
CREATED:20220525T125056Z
LAST-MODIFIED:20220525T125056Z
UID:17006-1672012800-1672099199@bainbridgetwp.com
SUMMARY:Christmas Day Observed - Closed
DESCRIPTION:
URL:https://bainbridgetwp.com/event/christmas-day-observed-closed/
END:VEVENT
BEGIN:VEVENT
DTSTART;VALUE=DATE:20221225
DTEND;VALUE=DATE:20221226
DTSTAMP:20260425T210120
CREATED:20220525T125015Z
LAST-MODIFIED:20220525T125015Z
UID:17004-1671926400-1672012799@bainbridgetwp.com
SUMMARY:Christmas Day
DESCRIPTION:
URL:https://bainbridgetwp.com/event/christmas-day/
END:VEVENT
BEGIN:VEVENT
DTSTART;TZID=America/New_York:20221219T190000
DTEND;TZID=America/New_York:20221219T190000
DTSTAMP:20260425T210120
CREATED:20220107T190355Z
LAST-MODIFIED:20221216T164039Z
UID:16456-1671476400-1671476400@bainbridgetwp.com
SUMMARY:BOT Meeting
DESCRIPTION:
URL:https://bainbridgetwp.com/event/bot-meeting-december-19-2022/
CATEGORIES:BOT Meetings,Community Events
END:VEVENT
BEGIN:VEVENT
DTSTART;TZID=America/New_York:20221215T190000
DTEND;TZID=America/New_York:20221215T190000
DTSTAMP:20260425T210120
CREATED:20220107T193014Z
LAST-MODIFIED:20221202T181739Z
UID:16500-1671130800-1671130800@bainbridgetwp.com
SUMMARY:Board of Zoning Appeals Meeting
DESCRIPTION:
URL:https://bainbridgetwp.com/event/board-of-zoning-appeals-meeting-14/
END:VEVENT
END:VCALENDAR