BEGIN:VCALENDAR
VERSION:2.0
PRODID:-//Bainbridge Township - ECPv6.15.20//NONSGML v1.0//EN
CALSCALE:GREGORIAN
METHOD:PUBLISH
X-WR-CALNAME:Bainbridge Township
X-ORIGINAL-URL:https://bainbridgetwp.com
X-WR-CALDESC:Events for Bainbridge Township
REFRESH-INTERVAL;VALUE=DURATION:PT1H
X-Robots-Tag:noindex
X-PUBLISHED-TTL:PT1H
BEGIN:VTIMEZONE
TZID:America/New_York
BEGIN:DAYLIGHT
TZOFFSETFROM:-0500
TZOFFSETTO:-0400
TZNAME:EDT
DTSTART:20220313T070000
END:DAYLIGHT
BEGIN:STANDARD
TZOFFSETFROM:-0400
TZOFFSETTO:-0500
TZNAME:EST
DTSTART:20221106T060000
END:STANDARD
BEGIN:DAYLIGHT
TZOFFSETFROM:-0500
TZOFFSETTO:-0400
TZNAME:EDT
DTSTART:20230312T070000
END:DAYLIGHT
BEGIN:STANDARD
TZOFFSETFROM:-0400
TZOFFSETTO:-0500
TZNAME:EST
DTSTART:20231105T060000
END:STANDARD
BEGIN:DAYLIGHT
TZOFFSETFROM:-0500
TZOFFSETTO:-0400
TZNAME:EDT
DTSTART:20240310T070000
END:DAYLIGHT
BEGIN:STANDARD
TZOFFSETFROM:-0400
TZOFFSETTO:-0500
TZNAME:EST
DTSTART:20241103T060000
END:STANDARD
END:VTIMEZONE
BEGIN:VEVENT
DTSTART;TZID=America/New_York:20231125T190000
DTEND;TZID=America/New_York:20231125T200000
DTSTAMP:20260425T130200
CREATED:20230601T120852Z
LAST-MODIFIED:20230601T120851Z
UID:18286-1700938800-1700942400@bainbridgetwp.com
SUMMARY:Holiday Lighting Ceremony
DESCRIPTION:
URL:https://bainbridgetwp.com/event/holiday-lighting-ceremony/
END:VEVENT
BEGIN:VEVENT
DTSTART;VALUE=DATE:20231124
DTEND;VALUE=DATE:20231125
DTSTAMP:20260425T130200
CREATED:20230103T152206Z
LAST-MODIFIED:20230103T152206Z
UID:17546-1700784000-1700870399@bainbridgetwp.com
SUMMARY:Thanksgiving - Closed
DESCRIPTION:
URL:https://bainbridgetwp.com/event/thanksgiving-closed-4/
END:VEVENT
BEGIN:VEVENT
DTSTART;VALUE=DATE:20231123
DTEND;VALUE=DATE:20231124
DTSTAMP:20260425T130200
CREATED:20230103T152126Z
LAST-MODIFIED:20230103T152125Z
UID:17544-1700697600-1700783999@bainbridgetwp.com
SUMMARY:Thanksgiving - Closed
DESCRIPTION:
URL:https://bainbridgetwp.com/event/thanksgiving-closed-3/
END:VEVENT
BEGIN:VEVENT
DTSTART;TZID=America/New_York:20231120T190000
DTEND;TZID=America/New_York:20231120T190000
DTSTAMP:20260425T130200
CREATED:20230110T150500Z
LAST-MODIFIED:20231117T173926Z
UID:17633-1700506800-1700506800@bainbridgetwp.com
SUMMARY:BOT Meeting
DESCRIPTION:
URL:https://bainbridgetwp.com/event/bot-meeting-45/
LOCATION:Bainbridge Town Hall\, 17826 Chillicothe Road\, Chagrin Falls\, OH\, 44023\, United States
END:VEVENT
BEGIN:VEVENT
DTSTART;TZID=America/New_York:20231116T190000
DTEND;TZID=America/New_York:20231116T190000
DTSTAMP:20260425T130200
CREATED:20230103T151946Z
LAST-MODIFIED:20231103T164457Z
UID:17540-1700161200-1700161200@bainbridgetwp.com
SUMMARY:Board of Zoning Appeals Meeting
DESCRIPTION:
URL:https://bainbridgetwp.com/event/board-of-zoning-appeals-meeting-26/
LOCATION:Bainbridge Town Hall\, 17826 Chillicothe Road\, Chagrin Falls\, OH\, 44023\, United States
END:VEVENT
BEGIN:VEVENT
DTSTART;VALUE=DATE:20231110
DTEND;VALUE=DATE:20231111
DTSTAMP:20260425T130200
CREATED:20230103T151852Z
LAST-MODIFIED:20230103T151852Z
UID:17538-1699574400-1699660799@bainbridgetwp.com
SUMMARY:Veterans Day Observe - Closed
DESCRIPTION:
URL:https://bainbridgetwp.com/event/veterans-day-observe-closed/
END:VEVENT
BEGIN:VEVENT
DTSTART;TZID=America/New_York:20231107T063000
DTEND;TZID=America/New_York:20231107T193000
DTSTAMP:20260425T130200
CREATED:20231106T142851Z
LAST-MODIFIED:20231106T142851Z
UID:18784-1699338600-1699385400@bainbridgetwp.com
SUMMARY:Voting Day
DESCRIPTION:Voters who vote in the Bainbridge Town Hall (precincts B\, D\, and G) will now vote at the Bainbridge Library at 17722 Snyder Rd.
URL:https://bainbridgetwp.com/event/voting-day/
CATEGORIES:Home page
END:VEVENT
BEGIN:VEVENT
DTSTART;TZID=America/New_York:20231106T190000
DTEND;TZID=America/New_York:20231106T190000
DTSTAMP:20260425T130200
CREATED:20230110T150417Z
LAST-MODIFIED:20231103T164212Z
UID:17631-1699297200-1699297200@bainbridgetwp.com
SUMMARY:BOT Meeting
DESCRIPTION:
URL:https://bainbridgetwp.com/event/bot-meeting-44/
LOCATION:Bainbridge Town Hall\, 17826 Chillicothe Road\, Chagrin Falls\, OH\, 44023\, United States
END:VEVENT
BEGIN:VEVENT
DTSTART;TZID=America/New_York:20231031T190000
DTEND;TZID=America/New_York:20231031T190000
DTSTAMP:20260425T130200
CREATED:20230103T151625Z
LAST-MODIFIED:20231010T182405Z
UID:17536-1698778800-1698778800@bainbridgetwp.com
SUMMARY:Zoning Commission Meeting - CANCELED
DESCRIPTION:The Zoning Commission meeting for October 31\, 2023 has been canceled.
URL:https://bainbridgetwp.com/event/zoning-commission-meeting-23/
LOCATION:Bainbridge Town Hall\, 17826 Chillicothe Road\, Chagrin Falls\, OH\, 44023\, United States
END:VEVENT
BEGIN:VEVENT
DTSTART;TZID=America/New_York:20231023T190000
DTEND;TZID=America/New_York:20231023T190000
DTSTAMP:20260425T130200
CREATED:20230110T150324Z
LAST-MODIFIED:20231020T185549Z
UID:17629-1698087600-1698087600@bainbridgetwp.com
SUMMARY:BOT Meeting
DESCRIPTION:
URL:https://bainbridgetwp.com/event/bot-meeting-43/
LOCATION:Bainbridge Town Hall\, 17826 Chillicothe Road\, Chagrin Falls\, OH\, 44023\, United States
END:VEVENT
BEGIN:VEVENT
DTSTART;TZID=America/New_York:20231019T190000
DTEND;TZID=America/New_York:20231019T190000
DTSTAMP:20260425T130200
CREATED:20230103T151432Z
LAST-MODIFIED:20231005T132027Z
UID:17534-1697742000-1697742000@bainbridgetwp.com
SUMMARY:Board of Zoning Appeals Meeting
DESCRIPTION:
URL:https://bainbridgetwp.com/event/board-of-zoning-appeals-meeting-25/
LOCATION:Bainbridge Town Hall\, 17826 Chillicothe Road\, Chagrin Falls\, OH\, 44023\, United States
END:VEVENT
BEGIN:VEVENT
DTSTART;TZID=America/New_York:20231009T190000
DTEND;TZID=America/New_York:20231009T190000
DTSTAMP:20260425T130200
CREATED:20230110T150240Z
LAST-MODIFIED:20231006T161105Z
UID:17627-1696878000-1696878000@bainbridgetwp.com
SUMMARY:BOT Meeting
DESCRIPTION:
URL:https://bainbridgetwp.com/event/bot-meeting-42/
LOCATION:Bainbridge Town Hall\, 17826 Chillicothe Road\, Chagrin Falls\, OH\, 44023\, United States
END:VEVENT
BEGIN:VEVENT
DTSTART;VALUE=DATE:20231009
DTEND;VALUE=DATE:20231010
DTSTAMP:20260425T130200
CREATED:20230103T151326Z
LAST-MODIFIED:20230103T151326Z
UID:17532-1696809600-1696895999@bainbridgetwp.com
SUMMARY:Columbus Day - Closed
DESCRIPTION:
URL:https://bainbridgetwp.com/event/columbus-day-closed-2/
END:VEVENT
BEGIN:VEVENT
DTSTART;TZID=America/New_York:20231003T183000
DTEND;TZID=America/New_York:20231003T183000
DTSTAMP:20260425T130200
CREATED:20231003T115700Z
LAST-MODIFIED:20231003T115700Z
UID:18697-1696357800-1696357800@bainbridgetwp.com
SUMMARY:Board of Trustees - Special Meeting
DESCRIPTION:The Board of Trustees will hold a Special Meeting to approve Resolution 100323 authorizing the township service director to represent Bainbridge Township at the Geauga County forfeited land auction on October 5\, 2023 at 9:30 AM.
URL:https://bainbridgetwp.com/event/board-of-trustees-special-meeting-3/
END:VEVENT
BEGIN:VEVENT
DTSTART;TZID=America/New_York:20230926T190000
DTEND;TZID=America/New_York:20230926T190000
DTSTAMP:20260425T130200
CREATED:20230103T151114Z
LAST-MODIFIED:20230919T190422Z
UID:17528-1695754800-1695754800@bainbridgetwp.com
SUMMARY:Zoning Commission Meeting
DESCRIPTION:
URL:https://bainbridgetwp.com/event/zoning-commission-meeting-22/
LOCATION:Bainbridge Town Hall\, 17826 Chillicothe Road\, Chagrin Falls\, OH\, 44023\, United States
END:VEVENT
BEGIN:VEVENT
DTSTART;TZID=America/New_York:20230925T190000
DTEND;TZID=America/New_York:20230925T190000
DTSTAMP:20260425T130200
CREATED:20230110T150156Z
LAST-MODIFIED:20230922T151121Z
UID:17625-1695668400-1695668400@bainbridgetwp.com
SUMMARY:BOT Meeting
DESCRIPTION:
URL:https://bainbridgetwp.com/event/bot-meeting-41/
LOCATION:Bainbridge Town Hall\, 17826 Chillicothe Road\, Chagrin Falls\, OH\, 44023\, United States
END:VEVENT
BEGIN:VEVENT
DTSTART;TZID=America/New_York:20230921T190000
DTEND;TZID=America/New_York:20230921T190000
DTSTAMP:20260425T130200
CREATED:20230103T151017Z
LAST-MODIFIED:20230905T171921Z
UID:17526-1695322800-1695322800@bainbridgetwp.com
SUMMARY:Board of Zoning Appeals Meeting
DESCRIPTION:
URL:https://bainbridgetwp.com/event/board-of-zoning-appeals-meeting-24/
LOCATION:Bainbridge Town Hall\, 17826 Chillicothe Road\, Chagrin Falls\, OH\, 44023\, United States
END:VEVENT
BEGIN:VEVENT
DTSTART;TZID=America/New_York:20230919T080000
DTEND;TZID=America/New_York:20230919T080000
DTSTAMP:20260425T130200
CREATED:20230918T174545Z
LAST-MODIFIED:20230918T175250Z
UID:18667-1695110400-1695110400@bainbridgetwp.com
SUMMARY:Board of Trustees - Special Meeting
DESCRIPTION:BOT Special Meeting – September 19\, 2023
URL:https://bainbridgetwp.com/event/board-of-trustees-special-meeting-2/
END:VEVENT
BEGIN:VEVENT
DTSTART;TZID=America/New_York:20230916T130000
DTEND;TZID=America/New_York:20230916T160000
DTSTAMP:20260425T130200
CREATED:20230829T152806Z
LAST-MODIFIED:20230830T165637Z
UID:18626-1694869200-1694880000@bainbridgetwp.com
SUMMARY:Bainbridge Township Historical Society Open House - September 16\, 2023
DESCRIPTION:
URL:https://bainbridgetwp.com/event/bainbridge-township-historical-society-open-house-september-16-2023/
CATEGORIES:Home page
END:VEVENT
BEGIN:VEVENT
DTSTART;TZID=America/New_York:20230911T190000
DTEND;TZID=America/New_York:20230911T190000
DTSTAMP:20260425T130200
CREATED:20230110T150109Z
LAST-MODIFIED:20230908T155203Z
UID:17623-1694458800-1694458800@bainbridgetwp.com
SUMMARY:BOT Meeting
DESCRIPTION:
URL:https://bainbridgetwp.com/event/bot-meeting-40/
LOCATION:Bainbridge Town Hall\, 17826 Chillicothe Road\, Chagrin Falls\, OH\, 44023\, United States
END:VEVENT
BEGIN:VEVENT
DTSTART;VALUE=DATE:20230904
DTEND;VALUE=DATE:20230905
DTSTAMP:20260425T130200
CREATED:20230103T151159Z
LAST-MODIFIED:20230103T151159Z
UID:17530-1693785600-1693871999@bainbridgetwp.com
SUMMARY:Labor Day - Closed
DESCRIPTION:
URL:https://bainbridgetwp.com/event/labor-day-closed-2/
END:VEVENT
BEGIN:VEVENT
DTSTART;TZID=America/New_York:20230829T180000
DTEND;TZID=America/New_York:20230829T180000
DTSTAMP:20260425T130200
CREATED:20230103T150755Z
LAST-MODIFIED:20230822T184044Z
UID:17524-1693332000-1693332000@bainbridgetwp.com
SUMMARY:Zoning Commission Meeting
DESCRIPTION:
URL:https://bainbridgetwp.com/event/zoning-commission-meeting-21/
LOCATION:Bainbridge Town Hall\, 17826 Chillicothe Road\, Chagrin Falls\, OH\, 44023\, United States
END:VEVENT
BEGIN:VEVENT
DTSTART;TZID=America/New_York:20230828T190000
DTEND;TZID=America/New_York:20230828T190000
DTSTAMP:20260425T130200
CREATED:20230110T150022Z
LAST-MODIFIED:20230825T162431Z
UID:17621-1693249200-1693249200@bainbridgetwp.com
SUMMARY:BOT Meeting
DESCRIPTION:
URL:https://bainbridgetwp.com/event/bot-meeting-39/
LOCATION:Bainbridge Town Hall\, 17826 Chillicothe Road\, Chagrin Falls\, OH\, 44023\, United States
END:VEVENT
BEGIN:VEVENT
DTSTART;TZID=America/New_York:20230826T130000
DTEND;TZID=America/New_York:20230826T220000
DTSTAMP:20260425T130200
CREATED:20230419T165305Z
LAST-MODIFIED:20230419T165713Z
UID:18051-1693054800-1693087200@bainbridgetwp.com
SUMMARY:Bainbridge Rox
DESCRIPTION:Rain date July 7 at dusk
URL:https://bainbridgetwp.com/event/document-shredding-day/
LOCATION:Centerville Mills Park\, 8558 Crackel Road\, Bainbridge Twp.\, OH
END:VEVENT
BEGIN:VEVENT
DTSTART;TZID=America/New_York:20230817T190000
DTEND;TZID=America/New_York:20230817T190000
DTSTAMP:20260425T130200
CREATED:20230817T125658Z
LAST-MODIFIED:20230817T125658Z
UID:18594-1692298800-1692298800@bainbridgetwp.com
SUMMARY:Board of Trustees Special Meeting
DESCRIPTION:
URL:https://bainbridgetwp.com/event/board-of-trustees-special-meeting/
END:VEVENT
BEGIN:VEVENT
DTSTART;TZID=America/New_York:20230817T190000
DTEND;TZID=America/New_York:20230817T190000
DTSTAMP:20260425T130200
CREATED:20230103T150703Z
LAST-MODIFIED:20230803T153022Z
UID:17522-1692298800-1692298800@bainbridgetwp.com
SUMMARY:Board of Zoning Appeals Meeting
DESCRIPTION:The Board of Zoning Appeals has cancelled its meeting for August 17\, 2023.
URL:https://bainbridgetwp.com/event/board-of-zoning-appeals-meeting-23/
LOCATION:Bainbridge Town Hall\, 17826 Chillicothe Road\, Chagrin Falls\, OH\, 44023\, United States
END:VEVENT
BEGIN:VEVENT
DTSTART;TZID=America/New_York:20230814T190000
DTEND;TZID=America/New_York:20230814T190000
DTSTAMP:20260425T130200
CREATED:20230110T145934Z
LAST-MODIFIED:20230811T161046Z
UID:17619-1692039600-1692039600@bainbridgetwp.com
SUMMARY:BOT Meeting
DESCRIPTION:There will be an EARLY START TIME of 5:30 P.M. for the purpose of meeting in Executive Session to discuss Employment and Compensation of Public Employees (ORC 121.22(G)(1)) and Imminent Litigation (ORC 121.22(G)(3)).
URL:https://bainbridgetwp.com/event/bot-meeting-38/
LOCATION:Bainbridge Town Hall\, 17826 Chillicothe Road\, Chagrin Falls\, OH\, 44023\, United States
END:VEVENT
BEGIN:VEVENT
DTSTART;TZID=America/New_York:20230725T190000
DTEND;TZID=America/New_York:20230725T190000
DTSTAMP:20260425T130201
CREATED:20230103T150556Z
LAST-MODIFIED:20230718T173949Z
UID:17520-1690311600-1690311600@bainbridgetwp.com
SUMMARY:Zoning Commission Meeting
DESCRIPTION:
URL:https://bainbridgetwp.com/event/zoning-commission-meeting-20/
LOCATION:Bainbridge Town Hall\, 17826 Chillicothe Road\, Chagrin Falls\, OH\, 44023\, United States
END:VEVENT
BEGIN:VEVENT
DTSTART;TZID=America/New_York:20230724T190000
DTEND;TZID=America/New_York:20230724T190000
DTSTAMP:20260425T130201
CREATED:20230110T145830Z
LAST-MODIFIED:20230720T184420Z
UID:17617-1690225200-1690225200@bainbridgetwp.com
SUMMARY:BOT Meeting
DESCRIPTION:
URL:https://bainbridgetwp.com/event/bot-meeting-37/
LOCATION:Bainbridge Town Hall\, 17826 Chillicothe Road\, Chagrin Falls\, OH\, 44023\, United States
END:VEVENT
BEGIN:VEVENT
DTSTART;TZID=America/New_York:20230720T190000
DTEND;TZID=America/New_York:20230720T190000
DTSTAMP:20260425T130201
CREATED:20230103T150340Z
LAST-MODIFIED:20230713T145247Z
UID:17516-1689879600-1689879600@bainbridgetwp.com
SUMMARY:Board of Zoning Appeals Meeting
DESCRIPTION:
URL:https://bainbridgetwp.com/event/board-of-zoning-appeals-meeting-22/
LOCATION:Bainbridge Town Hall\, 17826 Chillicothe Road\, Chagrin Falls\, OH\, 44023\, United States
END:VEVENT
END:VCALENDAR