BEGIN:VCALENDAR
VERSION:2.0
PRODID:-//Bainbridge Township - ECPv6.15.20//NONSGML v1.0//EN
CALSCALE:GREGORIAN
METHOD:PUBLISH
X-ORIGINAL-URL:https://bainbridgetwp.com
X-WR-CALDESC:Events for Bainbridge Township
REFRESH-INTERVAL;VALUE=DURATION:PT1H
X-Robots-Tag:noindex
X-PUBLISHED-TTL:PT1H
BEGIN:VTIMEZONE
TZID:America/New_York
BEGIN:DAYLIGHT
TZOFFSETFROM:-0500
TZOFFSETTO:-0400
TZNAME:EDT
DTSTART:20220313T070000
END:DAYLIGHT
BEGIN:STANDARD
TZOFFSETFROM:-0400
TZOFFSETTO:-0500
TZNAME:EST
DTSTART:20221106T060000
END:STANDARD
BEGIN:DAYLIGHT
TZOFFSETFROM:-0500
TZOFFSETTO:-0400
TZNAME:EDT
DTSTART:20230312T070000
END:DAYLIGHT
BEGIN:STANDARD
TZOFFSETFROM:-0400
TZOFFSETTO:-0500
TZNAME:EST
DTSTART:20231105T060000
END:STANDARD
BEGIN:DAYLIGHT
TZOFFSETFROM:-0500
TZOFFSETTO:-0400
TZNAME:EDT
DTSTART:20240310T070000
END:DAYLIGHT
BEGIN:STANDARD
TZOFFSETFROM:-0400
TZOFFSETTO:-0500
TZNAME:EST
DTSTART:20241103T060000
END:STANDARD
BEGIN:DAYLIGHT
TZOFFSETFROM:-0500
TZOFFSETTO:-0400
TZNAME:EDT
DTSTART:20250309T070000
END:DAYLIGHT
BEGIN:STANDARD
TZOFFSETFROM:-0400
TZOFFSETTO:-0500
TZNAME:EST
DTSTART:20251102T060000
END:STANDARD
END:VTIMEZONE
BEGIN:VEVENT
DTSTART;VALUE=DATE:20240219
DTEND;VALUE=DATE:20240220
DTSTAMP:20260425T095239
CREATED:20240109T162936Z
LAST-MODIFIED:20240109T162936Z
UID:19004-1708300800-1708387199@bainbridgetwp.com
SUMMARY:Presidents' Day - CLOSED
DESCRIPTION:
URL:https://bainbridgetwp.com/event/presidents-day-closed-2/
END:VEVENT
BEGIN:VEVENT
DTSTART;TZID=America/New_York:20240215T190000
DTEND;TZID=America/New_York:20240215T190000
DTSTAMP:20260425T095239
CREATED:20240109T161357Z
LAST-MODIFIED:20240109T161357Z
UID:18964-1708023600-1708023600@bainbridgetwp.com
SUMMARY:Board of Zoning Appeals Meeting
DESCRIPTION:
URL:https://bainbridgetwp.com/event/board-of-zoning-appeals-meeting-29/
END:VEVENT
BEGIN:VEVENT
DTSTART;TZID=America/New_York:20240212T190000
DTEND;TZID=America/New_York:20240212T190000
DTSTAMP:20260425T095239
CREATED:20240109T151244Z
LAST-MODIFIED:20240209T185315Z
UID:18920-1707764400-1707764400@bainbridgetwp.com
SUMMARY:BOT Meeting
DESCRIPTION:
URL:https://bainbridgetwp.com/event/bot-meeting-50/
END:VEVENT
BEGIN:VEVENT
DTSTART;TZID=America/New_York:20240130T180000
DTEND;TZID=America/New_York:20240130T180000
DTSTAMP:20260425T095239
CREATED:20240102T155831Z
LAST-MODIFIED:20240123T192036Z
UID:18897-1706637600-1706637600@bainbridgetwp.com
SUMMARY:Zoning Commission Meeting
DESCRIPTION:
URL:https://bainbridgetwp.com/event/zoning-commission-meeting-26/
END:VEVENT
BEGIN:VEVENT
DTSTART;TZID=America/New_York:20240122T190000
DTEND;TZID=America/New_York:20240122T190000
DTSTAMP:20260425T095239
CREATED:20240102T160022Z
LAST-MODIFIED:20240119T154152Z
UID:18901-1705950000-1705950000@bainbridgetwp.com
SUMMARY:BOT Meeting
DESCRIPTION:
URL:https://bainbridgetwp.com/event/bot-meeting-49/
END:VEVENT
BEGIN:VEVENT
DTSTART;TZID=America/New_York:20240118T190000
DTEND;TZID=America/New_York:20240118T190000
DTSTAMP:20260425T095239
CREATED:20240102T155908Z
LAST-MODIFIED:20240103T185526Z
UID:18899-1705604400-1705604400@bainbridgetwp.com
SUMMARY:Board of Zoning Appeals Meeting
DESCRIPTION:
URL:https://bainbridgetwp.com/event/board-of-zoning-appeals-meeting-28/
END:VEVENT
BEGIN:VEVENT
DTSTART;VALUE=DATE:20240115
DTEND;VALUE=DATE:20240116
DTSTAMP:20260425T095239
CREATED:20240109T162855Z
LAST-MODIFIED:20240109T162855Z
UID:19002-1705276800-1705363199@bainbridgetwp.com
SUMMARY:Martin Luther King Jr. Day - CLOSED
DESCRIPTION:
URL:https://bainbridgetwp.com/event/martin-luther-king-jr-day-closed-2/
END:VEVENT
BEGIN:VEVENT
DTSTART;TZID=America/New_York:20240108T170000
DTEND;TZID=America/New_York:20240108T170000
DTSTAMP:20260425T095239
CREATED:20240102T154639Z
LAST-MODIFIED:20240105T164132Z
UID:18894-1704733200-1704733200@bainbridgetwp.com
SUMMARY:BOT Meeting
DESCRIPTION:
URL:https://bainbridgetwp.com/event/bot-meeting-48/
END:VEVENT
BEGIN:VEVENT
DTSTART;TZID=America/New_York:20231229T170000
DTEND;TZID=America/New_York:20231229T170000
DTSTAMP:20260425T095239
CREATED:20231229T132634Z
LAST-MODIFIED:20231229T132634Z
UID:18890-1703869200-1703869200@bainbridgetwp.com
SUMMARY:BOT Meeting - Special
DESCRIPTION:Trustees will hold a Special Meeting at 5:00 on Friday\, December 29\, 2023 at the Bainbridge Town Hall for the discussion of the F-permit request by the Bainbridge Civic Club.
URL:https://bainbridgetwp.com/event/bot-meeting-special-13/
END:VEVENT
BEGIN:VEVENT
DTSTART;TZID=America/New_York:20231226T190000
DTEND;TZID=America/New_York:20231226T190000
DTSTAMP:20260425T095239
CREATED:20230103T152527Z
LAST-MODIFIED:20231219T150600Z
UID:17550-1703617200-1703617200@bainbridgetwp.com
SUMMARY:Zoning Commission Meeting
DESCRIPTION:
URL:https://bainbridgetwp.com/event/zoning-commission-meeting-25/
LOCATION:Bainbridge Town Hall\, 17826 Chillicothe Road\, Chagrin Falls\, OH\, 44023\, United States
END:VEVENT
BEGIN:VEVENT
DTSTART;TZID=America/New_York:20231226T080000
DTEND;TZID=America/New_York:20231226T143000
DTSTAMP:20260425T095239
CREATED:20230601T121010Z
LAST-MODIFIED:20230601T121010Z
UID:18289-1703577600-1703601000@bainbridgetwp.com
SUMMARY:Christmas Tree Drop Off
DESCRIPTION:
URL:https://bainbridgetwp.com/event/christmas-tree-drop-off/
END:VEVENT
BEGIN:VEVENT
DTSTART;TZID=America/New_York:20231226T073000
DTEND;TZID=America/New_York:20240131T143000
DTSTAMP:20260425T095239
CREATED:20230419T160235Z
LAST-MODIFIED:20230419T165119Z
UID:18029-1703575800-1706711400@bainbridgetwp.com
SUMMARY:Christmas Tree Drop Off
DESCRIPTION:
URL:https://bainbridgetwp.com/event/resident-drop-off-week/
LOCATION:Bainbridge Service Department Auxillary Lot\, 17800 Haskins Rd\, Chagrin Falls\, OH\, 44023\, United States
END:VEVENT
BEGIN:VEVENT
DTSTART;VALUE=DATE:20231225
DTEND;VALUE=DATE:20231226
DTSTAMP:20260425T095239
CREATED:20230103T152617Z
LAST-MODIFIED:20230103T152616Z
UID:17552-1703462400-1703548799@bainbridgetwp.com
SUMMARY:Christmas - Closed
DESCRIPTION:
URL:https://bainbridgetwp.com/event/christmas-closed/
END:VEVENT
BEGIN:VEVENT
DTSTART;TZID=America/New_York:20231221T190000
DTEND;TZID=America/New_York:20231221T190000
DTSTAMP:20260425T095239
CREATED:20230103T152429Z
LAST-MODIFIED:20231208T161635Z
UID:17548-1703185200-1703185200@bainbridgetwp.com
SUMMARY:Board of Zoning Appeals Meeting
DESCRIPTION:
URL:https://bainbridgetwp.com/event/board-of-zoning-appeals-meeting-27/
LOCATION:Bainbridge Town Hall\, 17826 Chillicothe Road\, Chagrin Falls\, OH\, 44023\, United States
END:VEVENT
BEGIN:VEVENT
DTSTART;TZID=America/New_York:20231218T190000
DTEND;TZID=America/New_York:20231218T190000
DTSTAMP:20260425T095239
CREATED:20230110T150638Z
LAST-MODIFIED:20231215T193746Z
UID:17637-1702926000-1702926000@bainbridgetwp.com
SUMMARY:BOT Meeting
DESCRIPTION:
URL:https://bainbridgetwp.com/event/bot-meeting-47/
LOCATION:Bainbridge Town Hall\, 17826 Chillicothe Road\, Chagrin Falls\, OH\, 44023\, United States
END:VEVENT
BEGIN:VEVENT
DTSTART;TZID=America/New_York:20231211T170000
DTEND;TZID=America/New_York:20231211T170000
DTSTAMP:20260425T095239
CREATED:20231201T193809Z
LAST-MODIFIED:20231201T193957Z
UID:18851-1702314000-1702314000@bainbridgetwp.com
SUMMARY:BOT Meeting - Special
DESCRIPTION:
URL:https://bainbridgetwp.com/event/bot-meeting-special-12/
END:VEVENT
BEGIN:VEVENT
DTSTART;TZID=America/New_York:20231207T190000
DTEND;TZID=America/New_York:20231207T190000
DTSTAMP:20260425T095239
CREATED:20231129T204611Z
LAST-MODIFIED:20231204T135504Z
UID:18845-1701975600-1701975600@bainbridgetwp.com
SUMMARY:Zoning Commission Meeting - Special - Cancelled
DESCRIPTION:The Special Zoning Commission meeting scheduled for tonight has been cancelled.
URL:https://bainbridgetwp.com/event/zoning-commission-meeting-special/
END:VEVENT
BEGIN:VEVENT
DTSTART;TZID=America/New_York:20231204T190000
DTEND;TZID=America/New_York:20231204T190000
DTSTAMP:20260425T095239
CREATED:20230110T150545Z
LAST-MODIFIED:20231201T170833Z
UID:17635-1701716400-1701716400@bainbridgetwp.com
SUMMARY:BOT Meeting
DESCRIPTION:
URL:https://bainbridgetwp.com/event/bot-meeting-46/
LOCATION:Bainbridge Town Hall\, 17826 Chillicothe Road\, Chagrin Falls\, OH\, 44023\, United States
END:VEVENT
BEGIN:VEVENT
DTSTART;TZID=America/New_York:20231128T190000
DTEND;TZID=America/New_York:20231128T190000
DTSTAMP:20260425T095239
CREATED:20230103T152045Z
LAST-MODIFIED:20231127T131830Z
UID:17542-1701198000-1701198000@bainbridgetwp.com
SUMMARY:Zoning Commission Meeting
DESCRIPTION:
URL:https://bainbridgetwp.com/event/zoning-commission-meeting-24/
LOCATION:Bainbridge Town Hall\, 17826 Chillicothe Road\, Chagrin Falls\, OH\, 44023\, United States
END:VEVENT
BEGIN:VEVENT
DTSTART;TZID=America/New_York:20231127T173000
DTEND;TZID=America/New_York:20231127T173000
DTSTAMP:20260425T095239
CREATED:20231127T182016Z
LAST-MODIFIED:20231127T182332Z
UID:18832-1701106200-1701106200@bainbridgetwp.com
SUMMARY:BOT Special Meeting - Canceled
DESCRIPTION:
URL:https://bainbridgetwp.com/event/bot-special-meeting-canceled/
END:VEVENT
BEGIN:VEVENT
DTSTART;TZID=America/New_York:20231125T190000
DTEND;TZID=America/New_York:20231125T200000
DTSTAMP:20260425T095239
CREATED:20230601T120852Z
LAST-MODIFIED:20230601T120851Z
UID:18286-1700938800-1700942400@bainbridgetwp.com
SUMMARY:Holiday Lighting Ceremony
DESCRIPTION:
URL:https://bainbridgetwp.com/event/holiday-lighting-ceremony/
END:VEVENT
BEGIN:VEVENT
DTSTART;VALUE=DATE:20231124
DTEND;VALUE=DATE:20231125
DTSTAMP:20260425T095239
CREATED:20230103T152206Z
LAST-MODIFIED:20230103T152206Z
UID:17546-1700784000-1700870399@bainbridgetwp.com
SUMMARY:Thanksgiving - Closed
DESCRIPTION:
URL:https://bainbridgetwp.com/event/thanksgiving-closed-4/
END:VEVENT
BEGIN:VEVENT
DTSTART;VALUE=DATE:20231123
DTEND;VALUE=DATE:20231124
DTSTAMP:20260425T095239
CREATED:20230103T152126Z
LAST-MODIFIED:20230103T152125Z
UID:17544-1700697600-1700783999@bainbridgetwp.com
SUMMARY:Thanksgiving - Closed
DESCRIPTION:
URL:https://bainbridgetwp.com/event/thanksgiving-closed-3/
END:VEVENT
BEGIN:VEVENT
DTSTART;TZID=America/New_York:20231120T190000
DTEND;TZID=America/New_York:20231120T190000
DTSTAMP:20260425T095239
CREATED:20230110T150500Z
LAST-MODIFIED:20231117T173926Z
UID:17633-1700506800-1700506800@bainbridgetwp.com
SUMMARY:BOT Meeting
DESCRIPTION:
URL:https://bainbridgetwp.com/event/bot-meeting-45/
LOCATION:Bainbridge Town Hall\, 17826 Chillicothe Road\, Chagrin Falls\, OH\, 44023\, United States
END:VEVENT
BEGIN:VEVENT
DTSTART;TZID=America/New_York:20231116T190000
DTEND;TZID=America/New_York:20231116T190000
DTSTAMP:20260425T095239
CREATED:20230103T151946Z
LAST-MODIFIED:20231103T164457Z
UID:17540-1700161200-1700161200@bainbridgetwp.com
SUMMARY:Board of Zoning Appeals Meeting
DESCRIPTION:
URL:https://bainbridgetwp.com/event/board-of-zoning-appeals-meeting-26/
LOCATION:Bainbridge Town Hall\, 17826 Chillicothe Road\, Chagrin Falls\, OH\, 44023\, United States
END:VEVENT
BEGIN:VEVENT
DTSTART;VALUE=DATE:20231110
DTEND;VALUE=DATE:20231111
DTSTAMP:20260425T095239
CREATED:20230103T151852Z
LAST-MODIFIED:20230103T151852Z
UID:17538-1699574400-1699660799@bainbridgetwp.com
SUMMARY:Veterans Day Observe - Closed
DESCRIPTION:
URL:https://bainbridgetwp.com/event/veterans-day-observe-closed/
END:VEVENT
BEGIN:VEVENT
DTSTART;TZID=America/New_York:20231107T063000
DTEND;TZID=America/New_York:20231107T193000
DTSTAMP:20260425T095239
CREATED:20231106T142851Z
LAST-MODIFIED:20231106T142851Z
UID:18784-1699338600-1699385400@bainbridgetwp.com
SUMMARY:Voting Day
DESCRIPTION:Voters who vote in the Bainbridge Town Hall (precincts B\, D\, and G) will now vote at the Bainbridge Library at 17722 Snyder Rd.
URL:https://bainbridgetwp.com/event/voting-day/
CATEGORIES:Home page
END:VEVENT
BEGIN:VEVENT
DTSTART;TZID=America/New_York:20231106T190000
DTEND;TZID=America/New_York:20231106T190000
DTSTAMP:20260425T095239
CREATED:20230110T150417Z
LAST-MODIFIED:20231103T164212Z
UID:17631-1699297200-1699297200@bainbridgetwp.com
SUMMARY:BOT Meeting
DESCRIPTION:
URL:https://bainbridgetwp.com/event/bot-meeting-44/
LOCATION:Bainbridge Town Hall\, 17826 Chillicothe Road\, Chagrin Falls\, OH\, 44023\, United States
END:VEVENT
BEGIN:VEVENT
DTSTART;TZID=America/New_York:20231031T190000
DTEND;TZID=America/New_York:20231031T190000
DTSTAMP:20260425T095239
CREATED:20230103T151625Z
LAST-MODIFIED:20231010T182405Z
UID:17536-1698778800-1698778800@bainbridgetwp.com
SUMMARY:Zoning Commission Meeting - CANCELED
DESCRIPTION:The Zoning Commission meeting for October 31\, 2023 has been canceled.
URL:https://bainbridgetwp.com/event/zoning-commission-meeting-23/
LOCATION:Bainbridge Town Hall\, 17826 Chillicothe Road\, Chagrin Falls\, OH\, 44023\, United States
END:VEVENT
BEGIN:VEVENT
DTSTART;TZID=America/New_York:20231023T190000
DTEND;TZID=America/New_York:20231023T190000
DTSTAMP:20260425T095239
CREATED:20230110T150324Z
LAST-MODIFIED:20231020T185549Z
UID:17629-1698087600-1698087600@bainbridgetwp.com
SUMMARY:BOT Meeting
DESCRIPTION:
URL:https://bainbridgetwp.com/event/bot-meeting-43/
LOCATION:Bainbridge Town Hall\, 17826 Chillicothe Road\, Chagrin Falls\, OH\, 44023\, United States
END:VEVENT
END:VCALENDAR