BEGIN:VCALENDAR
VERSION:2.0
PRODID:-//Bainbridge Township - ECPv6.15.20//NONSGML v1.0//EN
CALSCALE:GREGORIAN
METHOD:PUBLISH
X-ORIGINAL-URL:https://bainbridgetwp.com
X-WR-CALDESC:Events for Bainbridge Township
REFRESH-INTERVAL;VALUE=DURATION:PT1H
X-Robots-Tag:noindex
X-PUBLISHED-TTL:PT1H
BEGIN:VTIMEZONE
TZID:America/New_York
BEGIN:DAYLIGHT
TZOFFSETFROM:-0500
TZOFFSETTO:-0400
TZNAME:EDT
DTSTART:20250309T070000
END:DAYLIGHT
BEGIN:STANDARD
TZOFFSETFROM:-0400
TZOFFSETTO:-0500
TZNAME:EST
DTSTART:20251102T060000
END:STANDARD
BEGIN:DAYLIGHT
TZOFFSETFROM:-0500
TZOFFSETTO:-0400
TZNAME:EDT
DTSTART:20260308T070000
END:DAYLIGHT
BEGIN:STANDARD
TZOFFSETFROM:-0400
TZOFFSETTO:-0500
TZNAME:EST
DTSTART:20261101T060000
END:STANDARD
BEGIN:DAYLIGHT
TZOFFSETFROM:-0500
TZOFFSETTO:-0400
TZNAME:EDT
DTSTART:20270314T070000
END:DAYLIGHT
BEGIN:STANDARD
TZOFFSETFROM:-0400
TZOFFSETTO:-0500
TZNAME:EST
DTSTART:20271107T060000
END:STANDARD
END:VTIMEZONE
BEGIN:VEVENT
DTSTART;TZID=America/New_York:20260427T190000
DTEND;TZID=America/New_York:20260427T190000
DTSTAMP:20260424T063913
CREATED:20260102T195200Z
LAST-MODIFIED:20260102T195200Z
UID:21048-1777316400-1777316400@bainbridgetwp.com
SUMMARY:BOT Meeting
DESCRIPTION:
URL:https://bainbridgetwp.com/event/bot-meeting-104/
LOCATION:OH
END:VEVENT
BEGIN:VEVENT
DTSTART;VALUE=DATE:20260428
DTEND;VALUE=DATE:20260429
DTSTAMP:20260424T063913
CREATED:20260417T132041Z
LAST-MODIFIED:20260417T132229Z
UID:21451-1777334400-1777420799@bainbridgetwp.com
SUMMARY:Zoning Commission Agenda
DESCRIPTION:Meeting is at 6 pm at the Burns-Lindow Building\, 8465 Bainbridge Road. \nZCAgenda 4.28.26
URL:https://bainbridgetwp.com/event/zoning-commission-agenda/
LOCATION:OH
END:VEVENT
BEGIN:VEVENT
DTSTART;TZID=America/New_York:20260428T180000
DTEND;TZID=America/New_York:20260428T180000
DTSTAMP:20260424T063913
CREATED:20251230T191630Z
LAST-MODIFIED:20251230T191630Z
UID:20967-1777399200-1777399200@bainbridgetwp.com
SUMMARY:Zoning Commission Meeting
DESCRIPTION:
URL:https://bainbridgetwp.com/event/zoning-commission-meeting-52/
LOCATION:OH
END:VEVENT
BEGIN:VEVENT
DTSTART;TZID=America/New_York:20260504T073000
DTEND;TZID=America/New_York:20260504T123000
DTSTAMP:20260424T063913
CREATED:20250930T121341Z
LAST-MODIFIED:20260219T134826Z
UID:20728-1777879800-1777897800@bainbridgetwp.com
SUMMARY:2026 Senior Trash Week
DESCRIPTION:
URL:https://bainbridgetwp.com/event/2026-senior-trash-week-2/
LOCATION:OH
END:VEVENT
BEGIN:VEVENT
DTSTART;TZID=America/New_York:20260505T073000
DTEND;TZID=America/New_York:20260505T120000
DTSTAMP:20260424T063913
CREATED:20250930T120638Z
LAST-MODIFIED:20250930T120656Z
UID:20726-1777966200-1777982400@bainbridgetwp.com
SUMMARY:2026 Senior Trash Week
DESCRIPTION:
URL:https://bainbridgetwp.com/event/2026-senior-trash-week/
LOCATION:OH
END:VEVENT
BEGIN:VEVENT
DTSTART;TZID=America/New_York:20260506T073000
DTEND;TZID=America/New_York:20260506T123000
DTSTAMP:20260424T063913
CREATED:20250930T115849Z
LAST-MODIFIED:20260219T134555Z
UID:20723-1778052600-1778070600@bainbridgetwp.com
SUMMARY:2026 Senior Trash Week
DESCRIPTION:
URL:https://bainbridgetwp.com/event/2026-trash-week/
LOCATION:Bainbridge Service Department Auxillary Lot\, 17800 Haskins Rd\, Chagrin Falls\, OH\, 44023\, United States
END:VEVENT
BEGIN:VEVENT
DTSTART;TZID=America/New_York:20260507T073000
DTEND;TZID=America/New_York:20260507T123000
DTSTAMP:20260424T063913
CREATED:20260219T133627Z
LAST-MODIFIED:20260219T133641Z
UID:21200-1778139000-1778157000@bainbridgetwp.com
SUMMARY:Trash Week
DESCRIPTION:
URL:https://bainbridgetwp.com/event/trash-week/
LOCATION:Bainbridge Service Department Auxillary Lot\, 17800 Haskins Rd\, Chagrin Falls\, OH\, 44023\, United States
END:VEVENT
BEGIN:VEVENT
DTSTART;TZID=America/New_York:20260508T073000
DTEND;TZID=America/New_York:20260508T123000
DTSTAMP:20260424T063913
CREATED:20260219T133957Z
LAST-MODIFIED:20260219T133957Z
UID:21202-1778225400-1778243400@bainbridgetwp.com
SUMMARY:Trash Week
DESCRIPTION:
URL:https://bainbridgetwp.com/event/trash-week-2/
LOCATION:Bainbridge Service Department Auxillary Lot\, 17800 Haskins Rd\, Chagrin Falls\, OH\, 44023\, United States
END:VEVENT
BEGIN:VEVENT
DTSTART;TZID=America/New_York:20260509T080000
DTEND;TZID=America/New_York:20260509T120000
DTSTAMP:20260424T063913
CREATED:20250930T121842Z
LAST-MODIFIED:20250930T121842Z
UID:20730-1778313600-1778328000@bainbridgetwp.com
SUMMARY:2026 Shred Day
DESCRIPTION:
URL:https://bainbridgetwp.com/event/2026-shred-day/
LOCATION:OH
END:VEVENT
BEGIN:VEVENT
DTSTART;TZID=America/New_York:20260511T190000
DTEND;TZID=America/New_York:20260511T190000
DTSTAMP:20260424T063913
CREATED:20260102T195243Z
LAST-MODIFIED:20260102T195243Z
UID:21050-1778526000-1778526000@bainbridgetwp.com
SUMMARY:BOT Meeting
DESCRIPTION:
URL:https://bainbridgetwp.com/event/bot-meeting-105/
LOCATION:OH
END:VEVENT
BEGIN:VEVENT
DTSTART;TZID=America/New_York:20260521T190000
DTEND;TZID=America/New_York:20260521T190000
DTSTAMP:20260424T063913
CREATED:20251230T191733Z
LAST-MODIFIED:20260423T140211Z
UID:20969-1779390000-1779390000@bainbridgetwp.com
SUMMARY:Board of Zoning Appeals Meeting
DESCRIPTION:Public Hearings for \n7320 Ober Lane \n9705 Nighthawk Drive \n17380 Lookout Drive \nBZA NOTICE OF PUBLIC HEARING 5-21-26 2026-3\,4\,5
URL:https://bainbridgetwp.com/event/board-of-zoning-appeals-meeting-56/
LOCATION:OH
END:VEVENT
BEGIN:VEVENT
DTSTART;VALUE=DATE:20260525
DTEND;VALUE=DATE:20260526
DTSTAMP:20260424T063913
CREATED:20251230T193532Z
LAST-MODIFIED:20251230T193532Z
UID:21008-1779667200-1779753599@bainbridgetwp.com
SUMMARY:Memorial Day
DESCRIPTION:Township Offices Closed
URL:https://bainbridgetwp.com/event/memorial-day-2/
LOCATION:OH
END:VEVENT
BEGIN:VEVENT
DTSTART;TZID=America/New_York:20260526T180000
DTEND;TZID=America/New_York:20260526T180000
DTSTAMP:20260424T063913
CREATED:20251230T191830Z
LAST-MODIFIED:20251230T191830Z
UID:20971-1779818400-1779818400@bainbridgetwp.com
SUMMARY:Zoning Commission Meeting
DESCRIPTION:
URL:https://bainbridgetwp.com/event/zoning-commission-meeting-53/
LOCATION:OH
END:VEVENT
BEGIN:VEVENT
DTSTART;TZID=America/New_York:20260526T190000
DTEND;TZID=America/New_York:20260526T190000
DTSTAMP:20260424T063913
CREATED:20260102T195328Z
LAST-MODIFIED:20260102T195328Z
UID:21052-1779822000-1779822000@bainbridgetwp.com
SUMMARY:BOT Meeting
DESCRIPTION:
URL:https://bainbridgetwp.com/event/bot-meeting-106/
LOCATION:OH
END:VEVENT
BEGIN:VEVENT
DTSTART;TZID=America/New_York:20260608T190000
DTEND;TZID=America/New_York:20260608T190000
DTSTAMP:20260424T063913
CREATED:20260102T195419Z
LAST-MODIFIED:20260102T195419Z
UID:21054-1780945200-1780945200@bainbridgetwp.com
SUMMARY:BOT Meeting
DESCRIPTION:
URL:https://bainbridgetwp.com/event/bot-meeting-107/
LOCATION:OH
END:VEVENT
BEGIN:VEVENT
DTSTART;TZID=America/New_York:20260608T193000
DTEND;TZID=America/New_York:20260608T200000
DTSTAMP:20260424T063913
CREATED:20260423T132446Z
LAST-MODIFIED:20260423T132446Z
UID:21488-1780947000-1780948800@bainbridgetwp.com
SUMMARY:Public Hearing of the 2027 Budget
DESCRIPTION:
URL:https://bainbridgetwp.com/event/public-hearing-of-the-2027-budget/
LOCATION:Bainbridge Town Hall\, 17826 Chillicothe Road\, Chagrin Falls\, OH\, 44023\, United States
END:VEVENT
BEGIN:VEVENT
DTSTART;TZID=America/New_York:20260618T190000
DTEND;TZID=America/New_York:20260618T190000
DTSTAMP:20260424T063913
CREATED:20251230T191937Z
LAST-MODIFIED:20251230T191937Z
UID:20973-1781809200-1781809200@bainbridgetwp.com
SUMMARY:Board of Zoning Appeals Meeting
DESCRIPTION:
URL:https://bainbridgetwp.com/event/board-of-zoning-appeals-meeting-57/
LOCATION:OH
END:VEVENT
BEGIN:VEVENT
DTSTART;VALUE=DATE:20260619
DTEND;VALUE=DATE:20260620
DTSTAMP:20260424T063913
CREATED:20251230T193625Z
LAST-MODIFIED:20251230T193625Z
UID:21010-1781827200-1781913599@bainbridgetwp.com
SUMMARY:Juneteenth
DESCRIPTION:Township Offices Closed
URL:https://bainbridgetwp.com/event/juneteenth/
LOCATION:OH
END:VEVENT
BEGIN:VEVENT
DTSTART;TZID=America/New_York:20260622T190000
DTEND;TZID=America/New_York:20260622T190000
DTSTAMP:20260424T063913
CREATED:20260102T195504Z
LAST-MODIFIED:20260102T195504Z
UID:21056-1782154800-1782154800@bainbridgetwp.com
SUMMARY:BOT Meeting
DESCRIPTION:
URL:https://bainbridgetwp.com/event/bot-meeting-108/
LOCATION:OH
END:VEVENT
BEGIN:VEVENT
DTSTART;TZID=America/New_York:20260630T180000
DTEND;TZID=America/New_York:20260630T180000
DTSTAMP:20260424T063913
CREATED:20251230T192046Z
LAST-MODIFIED:20251230T192046Z
UID:20975-1782842400-1782842400@bainbridgetwp.com
SUMMARY:Zoning Commission Meeting
DESCRIPTION:
URL:https://bainbridgetwp.com/event/zoning-commission-meeting-54/
LOCATION:OH
END:VEVENT
BEGIN:VEVENT
DTSTART;VALUE=DATE:20260703
DTEND;VALUE=DATE:20260704
DTSTAMP:20260424T063913
CREATED:20251230T193746Z
LAST-MODIFIED:20251230T195304Z
UID:21012-1783036800-1783123199@bainbridgetwp.com
SUMMARY:Independence Day Observed
DESCRIPTION:Township Offices Closed
URL:https://bainbridgetwp.com/event/independence-day-observed/
LOCATION:OH
END:VEVENT
BEGIN:VEVENT
DTSTART;TZID=America/New_York:20260713T190000
DTEND;TZID=America/New_York:20260713T190000
DTSTAMP:20260424T063913
CREATED:20260102T195546Z
LAST-MODIFIED:20260102T195546Z
UID:21058-1783969200-1783969200@bainbridgetwp.com
SUMMARY:BOT Meeting
DESCRIPTION:
URL:https://bainbridgetwp.com/event/bot-meeting-109/
LOCATION:OH
END:VEVENT
BEGIN:VEVENT
DTSTART;TZID=America/New_York:20260716T190000
DTEND;TZID=America/New_York:20260716T190000
DTSTAMP:20260424T063913
CREATED:20251230T192148Z
LAST-MODIFIED:20251230T192148Z
UID:20977-1784228400-1784228400@bainbridgetwp.com
SUMMARY:Board of Zoning Appeals Meeting
DESCRIPTION:
URL:https://bainbridgetwp.com/event/board-of-zoning-appeals-meeting-58/
LOCATION:OH
END:VEVENT
BEGIN:VEVENT
DTSTART;TZID=America/New_York:20260727T190000
DTEND;TZID=America/New_York:20260727T190000
DTSTAMP:20260424T063913
CREATED:20260102T195630Z
LAST-MODIFIED:20260102T195630Z
UID:21060-1785178800-1785178800@bainbridgetwp.com
SUMMARY:BOT Meeting
DESCRIPTION:
URL:https://bainbridgetwp.com/event/bot-meeting-110/
LOCATION:OH
END:VEVENT
BEGIN:VEVENT
DTSTART;TZID=America/New_York:20260728T180000
DTEND;TZID=America/New_York:20260728T180000
DTSTAMP:20260424T063913
CREATED:20251230T192248Z
LAST-MODIFIED:20251230T192248Z
UID:20979-1785261600-1785261600@bainbridgetwp.com
SUMMARY:Zoning Commission Meeting
DESCRIPTION:
URL:https://bainbridgetwp.com/event/zoning-commission-meeting-55/
LOCATION:OH
END:VEVENT
BEGIN:VEVENT
DTSTART;TZID=America/New_York:20260810T190000
DTEND;TZID=America/New_York:20260810T190000
DTSTAMP:20260424T063913
CREATED:20260102T195715Z
LAST-MODIFIED:20260102T195715Z
UID:21062-1786388400-1786388400@bainbridgetwp.com
SUMMARY:BOT Meeting
DESCRIPTION:
URL:https://bainbridgetwp.com/event/bot-meeting-111/
LOCATION:OH
END:VEVENT
BEGIN:VEVENT
DTSTART;TZID=America/New_York:20260820T190000
DTEND;TZID=America/New_York:20260820T190000
DTSTAMP:20260424T063913
CREATED:20251230T192352Z
LAST-MODIFIED:20251230T192352Z
UID:20981-1787252400-1787252400@bainbridgetwp.com
SUMMARY:Board of Zoning Appeals Meeting
DESCRIPTION:
URL:https://bainbridgetwp.com/event/board-of-zoning-appeals-meeting-59/
LOCATION:OH
END:VEVENT
BEGIN:VEVENT
DTSTART;TZID=America/New_York:20260824T190000
DTEND;TZID=America/New_York:20260824T190000
DTSTAMP:20260424T063913
CREATED:20260102T195758Z
LAST-MODIFIED:20260102T200109Z
UID:21064-1787598000-1787598000@bainbridgetwp.com
SUMMARY:BOT Meeting
DESCRIPTION:
URL:https://bainbridgetwp.com/event/bot-meeting-112/
LOCATION:OH
END:VEVENT
BEGIN:VEVENT
DTSTART;TZID=America/New_York:20260825T180000
DTEND;TZID=America/New_York:20260825T180000
DTSTAMP:20260424T063913
CREATED:20251230T192457Z
LAST-MODIFIED:20251230T192457Z
UID:20983-1787680800-1787680800@bainbridgetwp.com
SUMMARY:Zoning Commission Meeting
DESCRIPTION:
URL:https://bainbridgetwp.com/event/zoning-commission-meeting-56/
LOCATION:OH
END:VEVENT
BEGIN:VEVENT
DTSTART;VALUE=DATE:20260907
DTEND;VALUE=DATE:20260908
DTSTAMP:20260424T063913
CREATED:20251230T193842Z
LAST-MODIFIED:20251230T193842Z
UID:21014-1788739200-1788825599@bainbridgetwp.com
SUMMARY:Labor Day
DESCRIPTION:Township Offices Closed
URL:https://bainbridgetwp.com/event/labor-day/
LOCATION:OH
END:VEVENT
END:VCALENDAR