BEGIN:VCALENDAR
VERSION:2.0
PRODID:-//Bainbridge Township - ECPv6.15.20//NONSGML v1.0//EN
CALSCALE:GREGORIAN
METHOD:PUBLISH
X-WR-CALNAME:Bainbridge Township
X-ORIGINAL-URL:https://bainbridgetwp.com
X-WR-CALDESC:Events for Bainbridge Township
REFRESH-INTERVAL;VALUE=DURATION:PT1H
X-Robots-Tag:noindex
X-PUBLISHED-TTL:PT1H
BEGIN:VTIMEZONE
TZID:America/New_York
BEGIN:DAYLIGHT
TZOFFSETFROM:-0500
TZOFFSETTO:-0400
TZNAME:EDT
DTSTART:20240310T070000
END:DAYLIGHT
BEGIN:STANDARD
TZOFFSETFROM:-0400
TZOFFSETTO:-0500
TZNAME:EST
DTSTART:20241103T060000
END:STANDARD
BEGIN:DAYLIGHT
TZOFFSETFROM:-0500
TZOFFSETTO:-0400
TZNAME:EDT
DTSTART:20250309T070000
END:DAYLIGHT
BEGIN:STANDARD
TZOFFSETFROM:-0400
TZOFFSETTO:-0500
TZNAME:EST
DTSTART:20251102T060000
END:STANDARD
BEGIN:DAYLIGHT
TZOFFSETFROM:-0500
TZOFFSETTO:-0400
TZNAME:EDT
DTSTART:20260308T070000
END:DAYLIGHT
BEGIN:STANDARD
TZOFFSETFROM:-0400
TZOFFSETTO:-0500
TZNAME:EST
DTSTART:20261101T060000
END:STANDARD
BEGIN:DAYLIGHT
TZOFFSETFROM:-0500
TZOFFSETTO:-0400
TZNAME:EDT
DTSTART:20270314T070000
END:DAYLIGHT
BEGIN:STANDARD
TZOFFSETFROM:-0400
TZOFFSETTO:-0500
TZNAME:EST
DTSTART:20271107T060000
END:STANDARD
END:VTIMEZONE
BEGIN:VEVENT
DTSTART;TZID=America/New_York:20260420T180000
DTEND;TZID=America/New_York:20260420T180000
DTSTAMP:20260424T080535
CREATED:20260417T185549Z
LAST-MODIFIED:20260417T190902Z
UID:21468-1776708000-1776708000@bainbridgetwp.com
SUMMARY:BOT Special Meeting
DESCRIPTION:BOT Special Meeting Notice April 20\, 2026
URL:https://bainbridgetwp.com/event/bot-special-meeting-4/
LOCATION:OH
CATEGORIES:BOT Meetings
END:VEVENT
BEGIN:VEVENT
DTSTART;TZID=America/New_York:20260417T080000
DTEND;TZID=America/New_York:20260417T170000
DTSTAMP:20260424T080535
CREATED:20260417T132503Z
LAST-MODIFIED:20260417T132503Z
UID:21454-1776412800-1776445200@bainbridgetwp.com
SUMMARY:Zoning Commission Meeting Agenda
DESCRIPTION:Meeting at 6pm at Burns-Lindow Building. \nZ3.31.26
URL:https://bainbridgetwp.com/event/zoning-commission-meeting-agenda/
LOCATION:OH
END:VEVENT
BEGIN:VEVENT
DTSTART;TZID=America/New_York:20260416T190000
DTEND;TZID=America/New_York:20260416T190000
DTSTAMP:20260424T080535
CREATED:20251230T191541Z
LAST-MODIFIED:20251230T191541Z
UID:20965-1776366000-1776366000@bainbridgetwp.com
SUMMARY:Board of Zoning Appeals Meeting
DESCRIPTION:
URL:https://bainbridgetwp.com/event/board-of-zoning-appeals-meeting-55/
LOCATION:OH
END:VEVENT
BEGIN:VEVENT
DTSTART;TZID=America/New_York:20260413T190000
DTEND;TZID=America/New_York:20260413T190000
DTSTAMP:20260424T080535
CREATED:20260102T195040Z
LAST-MODIFIED:20260414T142932Z
UID:21046-1776106800-1776106800@bainbridgetwp.com
SUMMARY:BOT Meeting
DESCRIPTION:Agenda 4-13-2026 Final
URL:https://bainbridgetwp.com/event/bot-meeting-103/
LOCATION:OH
END:VEVENT
BEGIN:VEVENT
DTSTART;TZID=America/New_York:20260410T163000
DTEND;TZID=America/New_York:20260410T173000
DTSTAMP:20260424T080535
CREATED:20260410T143922Z
LAST-MODIFIED:20260410T143934Z
UID:21408-1775838600-1775842200@bainbridgetwp.com
SUMMARY:BOT Special Meeting Notice
DESCRIPTION:BOT Special Meeting Notice – April 10 2026
URL:https://bainbridgetwp.com/event/bot-special-meeting-3/
LOCATION:OH
END:VEVENT
BEGIN:VEVENT
DTSTART;TZID=America/New_York:20260408T163000
DTEND;TZID=America/New_York:20260408T183000
DTSTAMP:20260424T080535
CREATED:20260408T173659Z
LAST-MODIFIED:20260408T173659Z
UID:21402-1775665800-1775673000@bainbridgetwp.com
SUMMARY:BOT Special Meeting
DESCRIPTION:BOT Special Meeting Notice – April 8\, 2026
URL:https://bainbridgetwp.com/event/bot-special-meeting-2/
LOCATION:OH
CATEGORIES:BOT Meetings
END:VEVENT
BEGIN:VEVENT
DTSTART;TZID=America/New_York:20260406T170000
DTEND;TZID=America/New_York:20260406T183000
DTSTAMP:20260424T080535
CREATED:20260408T173800Z
LAST-MODIFIED:20260408T173800Z
UID:21405-1775494800-1775500200@bainbridgetwp.com
SUMMARY:BOT Special Work Session
DESCRIPTION:BOT Special Work Session Notice – April 6 2026
URL:https://bainbridgetwp.com/event/bot-special-work-session/
LOCATION:OH
CATEGORIES:BOT Meetings
END:VEVENT
BEGIN:VEVENT
DTSTART;TZID=America/New_York:20260331T180000
DTEND;TZID=America/New_York:20260331T180000
DTSTAMP:20260424T080535
CREATED:20251230T191314Z
LAST-MODIFIED:20251230T191314Z
UID:20963-1774980000-1774980000@bainbridgetwp.com
SUMMARY:Zoning Commission Meeting
DESCRIPTION:
URL:https://bainbridgetwp.com/event/zoning-commission-meeting-51/
LOCATION:OH
END:VEVENT
BEGIN:VEVENT
DTSTART;TZID=America/New_York:20260328T100000
DTEND;TZID=America/New_York:20260328T120000
DTSTAMP:20260424T080535
CREATED:20260324T135641Z
LAST-MODIFIED:20260324T135641Z
UID:21373-1774692000-1774699200@bainbridgetwp.com
SUMMARY:Easter Egg Hunt
DESCRIPTION:Fire Department will be hosting an Easter egg hunt on Saturday\, March 28 from 10AM- 12PM!
URL:https://bainbridgetwp.com/event/easter-egg-hunt/
LOCATION:OH
END:VEVENT
BEGIN:VEVENT
DTSTART;TZID=America/New_York:20260325T190000
DTEND;TZID=America/New_York:20260325T200000
DTSTAMP:20260424T080535
CREATED:20260318T175546Z
LAST-MODIFIED:20260318T175546Z
UID:21356-1774465200-1774468800@bainbridgetwp.com
SUMMARY:Road Levy Presentation
DESCRIPTION:
URL:https://bainbridgetwp.com/event/road-levy-presentation/
LOCATION:Centerville Mills Park\, 8558 Crackel Road\, Bainbridge Twp.\, OH
END:VEVENT
BEGIN:VEVENT
DTSTART;TZID=America/New_York:20260323T190000
DTEND;TZID=America/New_York:20260323T190000
DTSTAMP:20260424T080535
CREATED:20260102T194952Z
LAST-MODIFIED:20260320T162828Z
UID:21044-1774292400-1774292400@bainbridgetwp.com
SUMMARY:BOT Meeting
DESCRIPTION:Agenda 3-23-2026 Final
URL:https://bainbridgetwp.com/event/bot-meeting-102/
LOCATION:OH
END:VEVENT
BEGIN:VEVENT
DTSTART;TZID=America/New_York:20260319T190000
DTEND;TZID=America/New_York:20260319T190000
DTSTAMP:20260424T080535
CREATED:20251230T191220Z
LAST-MODIFIED:20260312T155505Z
UID:20961-1773946800-1773946800@bainbridgetwp.com
SUMMARY:Board of Zoning Appeals Meeting-Canceled
DESCRIPTION:
URL:https://bainbridgetwp.com/event/board-of-zoning-appeals-meeting-54/
LOCATION:OH
END:VEVENT
BEGIN:VEVENT
DTSTART;TZID=America/New_York:20260309T190000
DTEND;TZID=America/New_York:20260309T190000
DTSTAMP:20260424T080535
CREATED:20260102T194911Z
LAST-MODIFIED:20260306T171426Z
UID:21042-1773082800-1773082800@bainbridgetwp.com
SUMMARY:BOT Meeting
DESCRIPTION:Agenda 3-9-2026 Final
URL:https://bainbridgetwp.com/event/bot-meeting-101/
LOCATION:OH
END:VEVENT
BEGIN:VEVENT
DTSTART;TZID=America/New_York:20260224T180000
DTEND;TZID=America/New_York:20260224T180000
DTSTAMP:20260424T080535
CREATED:20251230T191125Z
LAST-MODIFIED:20251230T191125Z
UID:20959-1771956000-1771956000@bainbridgetwp.com
SUMMARY:Zoning Commission Meeting
DESCRIPTION:
URL:https://bainbridgetwp.com/event/zoning-commission-meeting-50/
LOCATION:OH
END:VEVENT
BEGIN:VEVENT
DTSTART;TZID=America/New_York:20260223T190000
DTEND;TZID=America/New_York:20260223T190000
DTSTAMP:20260424T080535
CREATED:20260102T194455Z
LAST-MODIFIED:20260226T172236Z
UID:21040-1771873200-1771873200@bainbridgetwp.com
SUMMARY:BOT Meeting
DESCRIPTION:BOT Agenda 2-23-2026
URL:https://bainbridgetwp.com/event/bot-meeting-100/
LOCATION:OH
END:VEVENT
BEGIN:VEVENT
DTSTART;TZID=America/New_York:20260219T190000
DTEND;TZID=America/New_York:20260219T190000
DTSTAMP:20260424T080535
CREATED:20251230T190550Z
LAST-MODIFIED:20260129T201930Z
UID:20957-1771527600-1771527600@bainbridgetwp.com
SUMMARY:Board of Zoning Appeals Meeting
DESCRIPTION:
URL:https://bainbridgetwp.com/event/board-of-zoning-appeals-meeting-53/
LOCATION:OH
END:VEVENT
BEGIN:VEVENT
DTSTART;VALUE=DATE:20260216
DTEND;VALUE=DATE:20260217
DTSTAMP:20260424T080535
CREATED:20251230T193443Z
LAST-MODIFIED:20251230T193443Z
UID:21006-1771200000-1771286399@bainbridgetwp.com
SUMMARY:Presidents' Day
DESCRIPTION:Township Offices Closed
URL:https://bainbridgetwp.com/event/presidents-day/
LOCATION:OH
END:VEVENT
BEGIN:VEVENT
DTSTART;TZID=America/New_York:20260209T190000
DTEND;TZID=America/New_York:20260209T190000
DTSTAMP:20260424T080535
CREATED:20260102T194345Z
LAST-MODIFIED:20260102T194345Z
UID:21038-1770663600-1770663600@bainbridgetwp.com
SUMMARY:BOT Meeting
DESCRIPTION:
URL:https://bainbridgetwp.com/event/bot-meeting-99/
LOCATION:OH
END:VEVENT
BEGIN:VEVENT
DTSTART;TZID=America/New_York:20260127T180000
DTEND;TZID=America/New_York:20260127T180000
DTSTAMP:20260424T080535
CREATED:20251230T190457Z
LAST-MODIFIED:20260121T140541Z
UID:20955-1769536800-1769536800@bainbridgetwp.com
SUMMARY:Zoning Commission Meeting
DESCRIPTION:
URL:https://bainbridgetwp.com/event/zoning-commission-meeting-49/
LOCATION:OH
END:VEVENT
BEGIN:VEVENT
DTSTART;TZID=America/New_York:20260126T190000
DTEND;TZID=America/New_York:20260126T190000
DTSTAMP:20260424T080535
CREATED:20251230T190229Z
LAST-MODIFIED:20260123T163316Z
UID:20951-1769454000-1769454000@bainbridgetwp.com
SUMMARY:BOT Meeting
DESCRIPTION:
URL:https://bainbridgetwp.com/event/bot-meeting-98/
LOCATION:OH
END:VEVENT
BEGIN:VEVENT
DTSTART;VALUE=DATE:20260119
DTEND;VALUE=DATE:20260120
DTSTAMP:20260424T080535
CREATED:20251230T193354Z
LAST-MODIFIED:20251230T193354Z
UID:21004-1768780800-1768867199@bainbridgetwp.com
SUMMARY:Martin Luther King Jr. Day
DESCRIPTION:Township Offices Closed
URL:https://bainbridgetwp.com/event/martin-luther-king-jr-day/
LOCATION:OH
END:VEVENT
BEGIN:VEVENT
DTSTART;TZID=America/New_York:20260115T190000
DTEND;TZID=America/New_York:20260115T190000
DTSTAMP:20260424T080535
CREATED:20251230T190400Z
LAST-MODIFIED:20260115T204219Z
UID:20953-1768503600-1768503600@bainbridgetwp.com
SUMMARY:Board of Zoning Appeals Meeting - CANCELED
DESCRIPTION:The Board of Zoning Appeals meeting for tonight has been canceled due to inclement weather. \n 
URL:https://bainbridgetwp.com/event/board-of-zoning-appeals-meeting-52/
LOCATION:OH
END:VEVENT
BEGIN:VEVENT
DTSTART;TZID=America/New_York:20260112T173000
DTEND;TZID=America/New_York:20260112T173000
DTSTAMP:20260424T080535
CREATED:20260106T202455Z
LAST-MODIFIED:20260106T203508Z
UID:21102-1768239000-1768239000@bainbridgetwp.com
SUMMARY:BOT Meeting - Special
DESCRIPTION:
URL:https://bainbridgetwp.com/event/bot-meeting-special-27/
LOCATION:OH
END:VEVENT
BEGIN:VEVENT
DTSTART;TZID=America/New_York:20260105T190000
DTEND;TZID=America/New_York:20260105T190000
DTSTAMP:20260424T080535
CREATED:20251230T185437Z
LAST-MODIFIED:20260102T183559Z
UID:20948-1767639600-1767639600@bainbridgetwp.com
SUMMARY:BOT Meeting
DESCRIPTION:
URL:https://bainbridgetwp.com/event/bot-meeting-97/
LOCATION:OH
END:VEVENT
BEGIN:VEVENT
DTSTART;TZID=America/New_York:20260105T181500
DTEND;TZID=America/New_York:20260105T181500
DTSTAMP:20260424T080535
CREATED:20251016T130337Z
LAST-MODIFIED:20260102T184039Z
UID:20780-1767636900-1767636900@bainbridgetwp.com
SUMMARY:BOT Meeting - Organizational
DESCRIPTION:
URL:https://bainbridgetwp.com/event/bot-meeting-organizational-3/
LOCATION:OH
END:VEVENT
BEGIN:VEVENT
DTSTART;VALUE=DATE:20260101
DTEND;VALUE=DATE:20260102
DTSTAMP:20260424T080535
CREATED:20251230T193239Z
LAST-MODIFIED:20251230T193239Z
UID:21002-1767225600-1767311999@bainbridgetwp.com
SUMMARY:New Year's Day
DESCRIPTION:TOWNSHIP OFFICES CLOSED
URL:https://bainbridgetwp.com/event/new-years-day/
LOCATION:OH
END:VEVENT
BEGIN:VEVENT
DTSTART;TZID=America/New_York:20251230T180000
DTEND;TZID=America/New_York:20251230T180000
DTSTAMP:20260424T080535
CREATED:20241231T151406Z
LAST-MODIFIED:20251202T165323Z
UID:20021-1767117600-1767117600@bainbridgetwp.com
SUMMARY:Zoning Commission Meeting -Canceled
DESCRIPTION:The Zoning Commission meeting for December 30\, 2025 has been canceled.
URL:https://bainbridgetwp.com/event/zoning-commission-meeting-48/
LOCATION:OH
END:VEVENT
BEGIN:VEVENT
DTSTART;TZID=America/New_York:20251218T190000
DTEND;TZID=America/New_York:20251218T190000
DTSTAMP:20260424T080535
CREATED:20241231T151304Z
LAST-MODIFIED:20251218T135425Z
UID:20019-1766084400-1766084400@bainbridgetwp.com
SUMMARY:Board of Zoning Appeals Meeting
DESCRIPTION:There is no public hearing for this meeting\, however\, the Board of Zoning Appeals will be meeting to approve the November 20\, 2025 meeting minutes only. \nThe meeting will be held at the Burns-Lindow Building – 8465 Bainbridge Road – 7:00 P.M.
URL:https://bainbridgetwp.com/event/board-of-zoning-appeals-meeting-51/
LOCATION:OH
END:VEVENT
BEGIN:VEVENT
DTSTART;TZID=America/New_York:20251215T190000
DTEND;TZID=America/New_York:20251215T190000
DTSTAMP:20260424T080535
CREATED:20251212T190221Z
LAST-MODIFIED:20251218T135714Z
UID:20913-1765825200-1765825200@bainbridgetwp.com
SUMMARY:BOT Meeting
DESCRIPTION:
URL:https://bainbridgetwp.com/event/bot-meeting-95/
LOCATION:OH
END:VEVENT
BEGIN:VEVENT
DTSTART;TZID=America/New_York:20251208T170000
DTEND;TZID=America/New_York:20251208T170000
DTSTAMP:20260424T080535
CREATED:20251202T181952Z
LAST-MODIFIED:20251202T181952Z
UID:20889-1765213200-1765213200@bainbridgetwp.com
SUMMARY:BOT Meeting - Special
DESCRIPTION:
URL:https://bainbridgetwp.com/event/bot-meeting-special-26/
LOCATION:OH
END:VEVENT
END:VCALENDAR