BEGIN:VCALENDAR
VERSION:2.0
PRODID:-//Bainbridge Township - ECPv6.15.20//NONSGML v1.0//EN
CALSCALE:GREGORIAN
METHOD:PUBLISH
X-WR-CALNAME:Bainbridge Township
X-ORIGINAL-URL:https://bainbridgetwp.com
X-WR-CALDESC:Events for Bainbridge Township
REFRESH-INTERVAL;VALUE=DURATION:PT1H
X-Robots-Tag:noindex
X-PUBLISHED-TTL:PT1H
BEGIN:VTIMEZONE
TZID:America/New_York
BEGIN:DAYLIGHT
TZOFFSETFROM:-0500
TZOFFSETTO:-0400
TZNAME:EDT
DTSTART:20200308T070000
END:DAYLIGHT
BEGIN:STANDARD
TZOFFSETFROM:-0400
TZOFFSETTO:-0500
TZNAME:EST
DTSTART:20201101T060000
END:STANDARD
BEGIN:DAYLIGHT
TZOFFSETFROM:-0500
TZOFFSETTO:-0400
TZNAME:EDT
DTSTART:20210314T070000
END:DAYLIGHT
BEGIN:STANDARD
TZOFFSETFROM:-0400
TZOFFSETTO:-0500
TZNAME:EST
DTSTART:20211107T060000
END:STANDARD
BEGIN:DAYLIGHT
TZOFFSETFROM:-0500
TZOFFSETTO:-0400
TZNAME:EDT
DTSTART:20220313T070000
END:DAYLIGHT
BEGIN:STANDARD
TZOFFSETFROM:-0400
TZOFFSETTO:-0500
TZNAME:EST
DTSTART:20221106T060000
END:STANDARD
BEGIN:DAYLIGHT
TZOFFSETFROM:-0500
TZOFFSETTO:-0400
TZNAME:EDT
DTSTART:20230312T070000
END:DAYLIGHT
BEGIN:STANDARD
TZOFFSETFROM:-0400
TZOFFSETTO:-0500
TZNAME:EST
DTSTART:20231105T060000
END:STANDARD
BEGIN:DAYLIGHT
TZOFFSETFROM:-0500
TZOFFSETTO:-0400
TZNAME:EDT
DTSTART:20240310T070000
END:DAYLIGHT
BEGIN:STANDARD
TZOFFSETFROM:-0400
TZOFFSETTO:-0500
TZNAME:EST
DTSTART:20241103T060000
END:STANDARD
END:VTIMEZONE
BEGIN:VEVENT
DTSTART;TZID=America/New_York:20230410T173000
DTEND;TZID=America/New_York:20230410T173000
DTSTAMP:20260424T185242
CREATED:20230403T150335Z
LAST-MODIFIED:20230403T150500Z
UID:17874-1681147800-1681147800@bainbridgetwp.com
SUMMARY:Settlers Park Playground Opening
DESCRIPTION:Please join the Bainbridge Township Board of Trustees for the Settlers Park Playground Opening at \n17800 Haskins Road – 5:30 P.M.
URL:https://bainbridgetwp.com/event/settlers-park-playground-opening/
CATEGORIES:Community Events,Home page
END:VEVENT
BEGIN:VEVENT
DTSTART;TZID=America/New_York:20230401T100000
DTEND;TZID=America/New_York:20230401T120000
DTSTAMP:20260424T185242
CREATED:20230227T131510Z
LAST-MODIFIED:20230227T135131Z
UID:17789-1680343200-1680350400@bainbridgetwp.com
SUMMARY:Fire Department Easter Egg Hunt - April 1\, 2023
DESCRIPTION:
URL:https://bainbridgetwp.com/event/fire-department-easter-egg-hunt-april-1-2023/
CATEGORIES:Community Events,Home page
END:VEVENT
BEGIN:VEVENT
DTSTART;TZID=America/New_York:20221219T190000
DTEND;TZID=America/New_York:20221219T190000
DTSTAMP:20260424T185242
CREATED:20220107T190355Z
LAST-MODIFIED:20221216T164039Z
UID:16456-1671476400-1671476400@bainbridgetwp.com
SUMMARY:BOT Meeting
DESCRIPTION:
URL:https://bainbridgetwp.com/event/bot-meeting-december-19-2022/
CATEGORIES:BOT Meetings,Community Events
END:VEVENT
BEGIN:VEVENT
DTSTART;TZID=America/New_York:20221126T190000
DTEND;TZID=America/New_York:20221126T190000
DTSTAMP:20260424T185242
CREATED:20220525T124216Z
LAST-MODIFIED:20221019T161154Z
UID:16987-1669489200-1669489200@bainbridgetwp.com
SUMMARY:Holiday Lighting Ceremony - Heritage Park
DESCRIPTION:
URL:https://bainbridgetwp.com/event/holiday-lighting-ceremony-heritage-park/
CATEGORIES:Community Events,Holiday Celebrations,Home page
END:VEVENT
BEGIN:VEVENT
DTSTART;TZID=America/New_York:20221112T173000
DTEND;TZID=America/New_York:20221112T230000
DTSTAMP:20260424T185242
CREATED:20221021T160804Z
LAST-MODIFIED:20221021T161137Z
UID:17355-1668274200-1668294000@bainbridgetwp.com
SUMMARY:Taste In Bainbridge
DESCRIPTION:
URL:https://bainbridgetwp.com/event/tase-in-bainbridge/
LOCATION:Chagrin Valley Athletic Club\, 17260 Snyder Rd\, Chagrin Falls\, OH\, 44023\, United States
CATEGORIES:Community Events,Home page
END:VEVENT
BEGIN:VEVENT
DTSTART;TZID=America/New_York:20220827T120000
DTEND;TZID=America/New_York:20220827T220000
DTSTAMP:20260424T185242
CREATED:20220719T175120Z
LAST-MODIFIED:20220725T163859Z
UID:17127-1661601600-1661637600@bainbridgetwp.com
SUMMARY:Bainbridge Rox
DESCRIPTION:Held at Centerville Mills sponsored by the Bainbridge Civic Club.
URL:https://bainbridgetwp.com/event/bainbridge-rox/
CATEGORIES:Community Events,Home page
END:VEVENT
BEGIN:VEVENT
DTSTART;TZID=America/New_York:20220409T100000
DTEND;TZID=America/New_York:20220409T120000
DTSTAMP:20260424T185242
CREATED:20220304T184752Z
LAST-MODIFIED:20220304T185430Z
UID:16684-1649498400-1649505600@bainbridgetwp.com
SUMMARY:Fire Department Easter Egg Hunt
DESCRIPTION:
URL:https://bainbridgetwp.com/event/fire-department-easter-egg-hunt/
LOCATION:Bainbridge Town Hall\, 17826 Chillicothe Road\, Chagrin Falls\, OH\, 44023\, United States
CATEGORIES:Community Events
END:VEVENT
BEGIN:VEVENT
DTSTART;TZID=America/New_York:20211113T180000
DTEND;TZID=America/New_York:20211113T233000
DTSTAMP:20260424T185242
CREATED:20211018T123506Z
LAST-MODIFIED:20211018T125739Z
UID:16137-1636826400-1636846200@bainbridgetwp.com
SUMMARY:Taste In Bainbridge
DESCRIPTION:The Taste in Bainbridge (TIB) returns to the Chagrin Valley Athletic Club (CVAC) on November 13 from 6 PM to midnight. The number of seats is being reduced to eliminate the congestion from this continuously sold out event. \nCome join your friends and neighbors from the community for a fun-filled night that benefits multiple community causes. Around twenty great restaurants donate their culinary creations including delicious appetizers\, entrees\, and desserts directly from their menus. In addition to the fabulous food\, multiple raffles and auctions provide opportunities to win fabulous prizes and gifts donated by over 50 of our local businesses. After dinner and the auctions you can try your luck at our professional casino tables or get out on the dance floor and groove to a great mix of music. A full service cash bar is available the entire evening. \nClick HERE for further information.
URL:https://bainbridgetwp.com/event/taste-in-bainbridge/
LOCATION:Chagrin Valley Athletic Club\, 17260 Snyder Rd\, Chagrin Falls\, OH\, 44023\, United States
CATEGORIES:Community Events,Home page
END:VEVENT
END:VCALENDAR