BEGIN:VCALENDAR
VERSION:2.0
PRODID:-//Bainbridge Township - ECPv6.15.20//NONSGML v1.0//EN
CALSCALE:GREGORIAN
METHOD:PUBLISH
X-ORIGINAL-URL:https://bainbridgetwp.com
X-WR-CALDESC:Events for Bainbridge Township
REFRESH-INTERVAL;VALUE=DURATION:PT1H
X-Robots-Tag:noindex
X-PUBLISHED-TTL:PT1H
BEGIN:VTIMEZONE
TZID:America/New_York
BEGIN:DAYLIGHT
TZOFFSETFROM:-0500
TZOFFSETTO:-0400
TZNAME:EDT
DTSTART:20200308T070000
END:DAYLIGHT
BEGIN:STANDARD
TZOFFSETFROM:-0400
TZOFFSETTO:-0500
TZNAME:EST
DTSTART:20201101T060000
END:STANDARD
BEGIN:DAYLIGHT
TZOFFSETFROM:-0500
TZOFFSETTO:-0400
TZNAME:EDT
DTSTART:20210314T070000
END:DAYLIGHT
BEGIN:STANDARD
TZOFFSETFROM:-0400
TZOFFSETTO:-0500
TZNAME:EST
DTSTART:20211107T060000
END:STANDARD
BEGIN:DAYLIGHT
TZOFFSETFROM:-0500
TZOFFSETTO:-0400
TZNAME:EDT
DTSTART:20220313T070000
END:DAYLIGHT
BEGIN:STANDARD
TZOFFSETFROM:-0400
TZOFFSETTO:-0500
TZNAME:EST
DTSTART:20221106T060000
END:STANDARD
END:VTIMEZONE
BEGIN:VEVENT
DTSTART;TZID=America/New_York:20210817T100000
DTEND;TZID=America/New_York:20210817T100000
DTSTAMP:20260424T154101
CREATED:20210811T160106Z
LAST-MODIFIED:20210830T140601Z
UID:15190-1629194400-1629194400@bainbridgetwp.com
SUMMARY:Special BOT Meeting - Canceled
DESCRIPTION:
URL:https://bainbridgetwp.com/event/special-bot-meeting-august-27-2021/
LOCATION:Bainbridge Town Hall\, 17826 Chillicothe Road\, Chagrin Falls\, OH\, 44023\, United States
CATEGORIES:BOT Meetings
END:VEVENT
BEGIN:VEVENT
DTSTART;TZID=America/New_York:20210810T180000
DTEND;TZID=America/New_York:20210810T220000
DTSTAMP:20260424T154101
CREATED:20210802T185237Z
LAST-MODIFIED:20210830T123938Z
UID:15124-1628618400-1628632800@bainbridgetwp.com
SUMMARY:Special BOT Meeting
DESCRIPTION:
URL:https://bainbridgetwp.com/event/special-bot-meeting-8-10-2021/
CATEGORIES:BOT Meetings
END:VEVENT
BEGIN:VEVENT
DTSTART;TZID=America/New_York:20210809T190000
DTEND;TZID=America/New_York:20210809T190000
DTSTAMP:20260424T154101
CREATED:20210720T160822Z
LAST-MODIFIED:20210830T123834Z
UID:15054-1628535600-1628535600@bainbridgetwp.com
SUMMARY:BOT Meeting
DESCRIPTION:
URL:https://bainbridgetwp.com/event/bot-meeting-august-9-2021/
LOCATION:Bainbridge Town Hall\, 17826 Chillicothe Road\, Chagrin Falls\, OH\, 44023\, United States
CATEGORIES:BOT Meetings
END:VEVENT
BEGIN:VEVENT
DTSTART;TZID=America/New_York:20210726T190000
DTEND;TZID=America/New_York:20210726T190000
DTSTAMP:20260424T154101
CREATED:20210707T180147Z
LAST-MODIFIED:20210830T123000Z
UID:7968-1627326000-1627326000@bainbridgetwp.com
SUMMARY:BOT Meeting
DESCRIPTION:
URL:https://bainbridgetwp.com/event/bot-meeting-jul-26-2021/
LOCATION:Bainbridge Town Hall\, 17826 Chillicothe Road\, Chagrin Falls\, OH\, 44023\, United States
CATEGORIES:BOT Meetings
END:VEVENT
BEGIN:VEVENT
DTSTART;TZID=America/New_York:20210712T190000
DTEND;TZID=America/New_York:20210712T190000
DTSTAMP:20260424T154101
CREATED:20210707T175810Z
LAST-MODIFIED:20210830T142248Z
UID:7964-1626116400-1626116400@bainbridgetwp.com
SUMMARY:BOT Meeting
DESCRIPTION:
URL:https://bainbridgetwp.com/event/bot-meeting-july-12-2021/
LOCATION:Bainbridge Town Hall\, 17826 Chillicothe Road\, Chagrin Falls\, OH\, 44023\, United States
CATEGORIES:BOT Meetings
END:VEVENT
END:VCALENDAR