BEGIN:VCALENDAR
VERSION:2.0
PRODID:-//Bainbridge Township - ECPv6.15.20//NONSGML v1.0//EN
CALSCALE:GREGORIAN
METHOD:PUBLISH
X-ORIGINAL-URL:https://bainbridgetwp.com
X-WR-CALDESC:Events for Bainbridge Township
REFRESH-INTERVAL;VALUE=DURATION:PT1H
X-Robots-Tag:noindex
X-PUBLISHED-TTL:PT1H
BEGIN:VTIMEZONE
TZID:America/New_York
BEGIN:DAYLIGHT
TZOFFSETFROM:-0500
TZOFFSETTO:-0400
TZNAME:EDT
DTSTART:20200308T070000
END:DAYLIGHT
BEGIN:STANDARD
TZOFFSETFROM:-0400
TZOFFSETTO:-0500
TZNAME:EST
DTSTART:20201101T060000
END:STANDARD
BEGIN:DAYLIGHT
TZOFFSETFROM:-0500
TZOFFSETTO:-0400
TZNAME:EDT
DTSTART:20210314T070000
END:DAYLIGHT
BEGIN:STANDARD
TZOFFSETFROM:-0400
TZOFFSETTO:-0500
TZNAME:EST
DTSTART:20211107T060000
END:STANDARD
BEGIN:DAYLIGHT
TZOFFSETFROM:-0500
TZOFFSETTO:-0400
TZNAME:EDT
DTSTART:20220313T070000
END:DAYLIGHT
BEGIN:STANDARD
TZOFFSETFROM:-0400
TZOFFSETTO:-0500
TZNAME:EST
DTSTART:20221106T060000
END:STANDARD
BEGIN:DAYLIGHT
TZOFFSETFROM:-0500
TZOFFSETTO:-0400
TZNAME:EDT
DTSTART:20230312T070000
END:DAYLIGHT
BEGIN:STANDARD
TZOFFSETFROM:-0400
TZOFFSETTO:-0500
TZNAME:EST
DTSTART:20231105T060000
END:STANDARD
BEGIN:DAYLIGHT
TZOFFSETFROM:-0500
TZOFFSETTO:-0400
TZNAME:EDT
DTSTART:20240310T070000
END:DAYLIGHT
BEGIN:STANDARD
TZOFFSETFROM:-0400
TZOFFSETTO:-0500
TZNAME:EST
DTSTART:20241103T060000
END:STANDARD
BEGIN:DAYLIGHT
TZOFFSETFROM:-0500
TZOFFSETTO:-0400
TZNAME:EDT
DTSTART:20250309T070000
END:DAYLIGHT
BEGIN:STANDARD
TZOFFSETFROM:-0400
TZOFFSETTO:-0500
TZNAME:EST
DTSTART:20251102T060000
END:STANDARD
BEGIN:DAYLIGHT
TZOFFSETFROM:-0500
TZOFFSETTO:-0400
TZNAME:EDT
DTSTART:20260308T070000
END:DAYLIGHT
BEGIN:STANDARD
TZOFFSETFROM:-0400
TZOFFSETTO:-0500
TZNAME:EST
DTSTART:20261101T060000
END:STANDARD
BEGIN:DAYLIGHT
TZOFFSETFROM:-0500
TZOFFSETTO:-0400
TZNAME:EDT
DTSTART:20270314T070000
END:DAYLIGHT
BEGIN:STANDARD
TZOFFSETFROM:-0400
TZOFFSETTO:-0500
TZNAME:EST
DTSTART:20271107T060000
END:STANDARD
END:VTIMEZONE
BEGIN:VEVENT
DTSTART;TZID=America/New_York:20260420T180000
DTEND;TZID=America/New_York:20260420T180000
DTSTAMP:20260424T123050
CREATED:20260417T185549Z
LAST-MODIFIED:20260417T190902Z
UID:21468-1776708000-1776708000@bainbridgetwp.com
SUMMARY:BOT Special Meeting
DESCRIPTION:BOT Special Meeting Notice April 20\, 2026
URL:https://bainbridgetwp.com/event/bot-special-meeting-4/
CATEGORIES:BOT Meetings
END:VEVENT
BEGIN:VEVENT
DTSTART;TZID=America/New_York:20260408T163000
DTEND;TZID=America/New_York:20260408T183000
DTSTAMP:20260424T123050
CREATED:20260408T173659Z
LAST-MODIFIED:20260408T173659Z
UID:21402-1775665800-1775673000@bainbridgetwp.com
SUMMARY:BOT Special Meeting
DESCRIPTION:BOT Special Meeting Notice – April 8\, 2026
URL:https://bainbridgetwp.com/event/bot-special-meeting-2/
CATEGORIES:BOT Meetings
END:VEVENT
BEGIN:VEVENT
DTSTART;TZID=America/New_York:20260406T170000
DTEND;TZID=America/New_York:20260406T183000
DTSTAMP:20260424T123050
CREATED:20260408T173800Z
LAST-MODIFIED:20260408T173800Z
UID:21405-1775494800-1775500200@bainbridgetwp.com
SUMMARY:BOT Special Work Session
DESCRIPTION:BOT Special Work Session Notice – April 6 2026
URL:https://bainbridgetwp.com/event/bot-special-work-session/
CATEGORIES:BOT Meetings
END:VEVENT
BEGIN:VEVENT
DTSTART;TZID=America/New_York:20221219T190000
DTEND;TZID=America/New_York:20221219T190000
DTSTAMP:20260424T123050
CREATED:20220107T190355Z
LAST-MODIFIED:20221216T164039Z
UID:16456-1671476400-1671476400@bainbridgetwp.com
SUMMARY:BOT Meeting
DESCRIPTION:
URL:https://bainbridgetwp.com/event/bot-meeting-december-19-2022/
CATEGORIES:BOT Meetings,Community Events
END:VEVENT
BEGIN:VEVENT
DTSTART;TZID=America/New_York:20220404T183000
DTEND;TZID=America/New_York:20220404T183000
DTSTAMP:20260424T123050
CREATED:20220321T192513Z
LAST-MODIFIED:20220321T193220Z
UID:16729-1649097000-1649097000@bainbridgetwp.com
SUMMARY:BOT Meeting - Special
DESCRIPTION:
URL:https://bainbridgetwp.com/event/bot-meeting-special-4/
CATEGORIES:BOT Meetings
END:VEVENT
BEGIN:VEVENT
DTSTART;TZID=America/New_York:20220321T173000
DTEND;TZID=America/New_York:20220321T173000
DTSTAMP:20260424T123050
CREATED:20220317T131508Z
LAST-MODIFIED:20220321T193323Z
UID:16716-1647883800-1647883800@bainbridgetwp.com
SUMMARY:BOT Meeting - Special
DESCRIPTION:
URL:https://bainbridgetwp.com/event/bot-meeting-special-3/
LOCATION:Bainbridge Town Hall\, 17826 Chillicothe Road\, Chagrin Falls\, OH\, 44023\, United States
CATEGORIES:BOT Meetings
END:VEVENT
BEGIN:VEVENT
DTSTART;TZID=America/New_York:20220124T190000
DTEND;TZID=America/New_York:20220124T190000
DTSTAMP:20260424T123050
CREATED:20220107T184548Z
LAST-MODIFIED:20220121T165952Z
UID:16413-1643050800-1643050800@bainbridgetwp.com
SUMMARY:BOT Meeting
DESCRIPTION:
URL:https://bainbridgetwp.com/event/bot-meeting-2/
CATEGORIES:BOT Meetings
END:VEVENT
BEGIN:VEVENT
DTSTART;TZID=America/New_York:20220120T190000
DTEND;TZID=America/New_York:20220120T190000
DTSTAMP:20260424T123050
CREATED:20220107T191045Z
LAST-MODIFIED:20220113T171312Z
UID:16460-1642705200-1642705200@bainbridgetwp.com
SUMMARY:Board of Zoning Appeals Meeting
DESCRIPTION:
URL:https://bainbridgetwp.com/event/board-of-zoning-appeals-meeting-4/
LOCATION:Bainbridge Town Hall\, 17826 Chillicothe Road\, Chagrin Falls\, OH\, 44023\, United States
CATEGORIES:BOT Meetings
END:VEVENT
BEGIN:VEVENT
DTSTART;TZID=America/New_York:20220110T190000
DTEND;TZID=America/New_York:20220110T190000
DTSTAMP:20260424T123050
CREATED:20220107T184317Z
LAST-MODIFIED:20220113T151411Z
UID:16411-1641841200-1641841200@bainbridgetwp.com
SUMMARY:BOT Meeting
DESCRIPTION:
URL:https://bainbridgetwp.com/event/bot-meeting/
LOCATION:Bainbridge Town Hall\, 17826 Chillicothe Road\, Chagrin Falls\, OH\, 44023\, United States
CATEGORIES:BOT Meetings
END:VEVENT
BEGIN:VEVENT
DTSTART;TZID=America/New_York:20220103T180000
DTEND;TZID=America/New_York:20220103T180000
DTSTAMP:20260424T123050
CREATED:20211203T155536Z
LAST-MODIFIED:20220301T154242Z
UID:16379-1641232800-1641232800@bainbridgetwp.com
SUMMARY:BOT Meeting - Organizational
DESCRIPTION:
URL:https://bainbridgetwp.com/event/bot-meeting-organizational/
CATEGORIES:BOT Meetings
END:VEVENT
BEGIN:VEVENT
DTSTART;TZID=America/New_York:20211220T190000
DTEND;TZID=America/New_York:20211220T190000
DTSTAMP:20260424T123050
CREATED:20210922T174849Z
LAST-MODIFIED:20211026T222651Z
UID:15991-1640026800-1640026800@bainbridgetwp.com
SUMMARY:BOT Meeting
DESCRIPTION:
URL:https://bainbridgetwp.com/event/bot-meeting-december-20-2021/
LOCATION:Bainbridge Town Hall\, 17826 Chillicothe Road\, Chagrin Falls\, OH\, 44023\, United States
CATEGORIES:BOT Meetings
END:VEVENT
BEGIN:VEVENT
DTSTART;TZID=America/New_York:20211122T190000
DTEND;TZID=America/New_York:20211122T190000
DTSTAMP:20260424T123050
CREATED:20210922T174627Z
LAST-MODIFIED:20211122T153759Z
UID:15987-1637607600-1637607600@bainbridgetwp.com
SUMMARY:BOT Meeting
DESCRIPTION:
URL:https://bainbridgetwp.com/event/bot-meeting-november-22-2021/
LOCATION:Bainbridge Town Hall\, 17826 Chillicothe Road\, Chagrin Falls\, OH\, 44023\, United States
CATEGORIES:BOT Meetings
END:VEVENT
BEGIN:VEVENT
DTSTART;TZID=America/New_York:20211108T173000
DTEND;TZID=America/New_York:20211108T173000
DTSTAMP:20260424T123050
CREATED:20210922T174552Z
LAST-MODIFIED:20211105T182315Z
UID:15985-1636392600-1636392600@bainbridgetwp.com
SUMMARY:BOT Meeting
DESCRIPTION:
URL:https://bainbridgetwp.com/event/bot-meeting-november-8-2021/
LOCATION:Bainbridge Town Hall\, 17826 Chillicothe Road\, Chagrin Falls\, OH\, 44023\, United States
CATEGORIES:BOT Meetings
END:VEVENT
BEGIN:VEVENT
DTSTART;TZID=America/New_York:20211025T190000
DTEND;TZID=America/New_York:20211025T190000
DTSTAMP:20260424T123050
CREATED:20211025T124100Z
LAST-MODIFIED:20211025T124754Z
UID:15983-1635188400-1635188400@bainbridgetwp.com
SUMMARY:BOT Meeting
DESCRIPTION:
URL:https://bainbridgetwp.com/event/bot-meeting-october-25-2021/
LOCATION:Bainbridge Town Hall\, 17826 Chillicothe Road\, Chagrin Falls\, OH\, 44023\, United States
CATEGORIES:BOT Meetings
END:VEVENT
BEGIN:VEVENT
DTSTART;TZID=America/New_York:20211020T170000
DTEND;TZID=America/New_York:20211020T170000
DTSTAMP:20260424T123050
CREATED:20211004T143820Z
LAST-MODIFIED:20211020T164843Z
UID:16067-1634749200-1634749200@bainbridgetwp.com
SUMMARY:BOT Meeting - Special
DESCRIPTION:The purposes of intending to meet and consider and take action on the proposed Master Consent Judgment Entry\, in the case titled Industrial Commercial Properties LLC\, et al. v. Bainbridge Township Board of Trustees\, bearing case number 21 M000337\, pending in the Geauga County Court of Common Pleas. \nThe Master Consent Entry affects the real property more fully described as permanent Parcel Numbers 02-125100\, 02-126100\, 02-323900\, 02-125400\, 02-126300\, 02-125600\,02-125900\, 02-324100\, 02-126200\, 02-126600\, 02-126700\, 02-125800\, 02-126000\, 02-323800\, 02-324000\, 02-324300\, 02-125300\, 02-420210\, 02-12\,6400\, 02-125700\, 02-323700\, and 02-421449.  \nThe Master Consent Entry supplements the Consent Judgment Entry issued on October 27\, 2020 in the case titled Industrial Commercial Properties\, LLC v. Bainbridge Township Board of Trustees\, bearing case number 20A000153\, now consolidated with and administered under the other case and is a settlement of the consolidated cases to allow Industrial Commercial Properties\, LLC and ICP Geauga Lake\, LLC and their successors and assigns\, to use the above described property for mixed uses in ways\, size and location\, subject to the conditions contained in the Master Consent Judgment Entry. In accordance with Section 505.07 of the Ohio Revised Code\, copies of the proposed Master Consent Judgment Entry are available to the public at the Bainbridge Township Fiscal Officer’s Office during normal business hours\, which are from 8:00 a.m. to 4:00 p.m. 2233013/October 5\, 2021 \n-=-=-=-=-=-=-=-=-=-=-=-=-=-=-=-=-=-=-=-=-=-=-=-=-=-=-=-=-=-=-=-= \nThe purposes of intending to meet and consider and take action on the proposed consent judgment entry (the “Consent Judgment Entry”)\, in the case titled Signature Square of Bainbridge\, LLC vs. Bainbridge Township Board of Trustees\, currently pending in the Geauga County Court of Common Pleas\, Case Number 20M000661. The Consent Judgment Entry affects the real property more fully described as Permanent Parcel Number 02-262000. In accordance with Section 505.07 of the Ohio Revised Code\, copies of the proposed Consent Judgment Entry are available to the public at the Bainbridge Township Fiscal Officer’s Office during normal business hours\, which are from 8:00 a.m. to 4:00 p.m. 2233019/October 5\, 2021
URL:https://bainbridgetwp.com/event/bot-meeting-special-october-20-2021/
LOCATION:Bainbridge Town Hall\, 17826 Chillicothe Road\, Chagrin Falls\, OH\, 44023\, United States
CATEGORIES:BOT Meetings
END:VEVENT
BEGIN:VEVENT
DTSTART;TZID=America/New_York:20211011T190000
DTEND;TZID=America/New_York:20211011T190000
DTSTAMP:20260424T123050
CREATED:20210812T125834Z
LAST-MODIFIED:20210920T124853Z
UID:15198-1633978800-1633978800@bainbridgetwp.com
SUMMARY:BOT Meeting - Canceled
DESCRIPTION:
URL:https://bainbridgetwp.com/event/bot-meeting-october-11-2021/
LOCATION:Bainbridge Town Hall\, 17826 Chillicothe Road\, Chagrin Falls\, OH\, 44023\, United States
CATEGORIES:BOT Meetings
END:VEVENT
BEGIN:VEVENT
DTSTART;TZID=America/New_York:20211004T190000
DTEND;TZID=America/New_York:20211004T190000
DTSTAMP:20260424T123050
CREATED:20210920T124622Z
LAST-MODIFIED:20211123T145804Z
UID:15964-1633374000-1633374000@bainbridgetwp.com
SUMMARY:BOT Meeting
DESCRIPTION:Presentation\n\nSmith Creek Restoration – 319 Grant\n\nDavey Resource Group\nChagrin River Watershed Partners\nJim Stanek\, Service Director\n\n\n\n\nFire\n\nNew Business\n\nRequest to Declare Obsolete – Copier\nRequest to Sell on GovDeals – Copier\nRequest to Accept Donation\nResignation of Public Employee\n\n\n\n\nPolice\n\nNew Business\n\nAward Acceptance\nEmployment of Part-Time Employee\nRetire/Rehire – Bodovetz\nGrade Change Request – Cagwin\nGrade Change Request – Lawrence\n\n\n\n\nService Department (Parks/Properties/Road)\n\nOld Business\n\nWRLC Stewardship of Henry South Easement\nJFD Landscapes – Landscaping Agreement\nContract Award – Smith Creek Restoration\n\n\n\n\nTown Hall\n\nOld Business\n\nResponse to Aurora Letter – 208 Plan\nWebsite Administrator\n\n\nPending Business\n\nWaterline\nTown Hall Renovations\nInternet/Fiber Connections\nTraining Requirements/Schedule\nPassive Park\nPPM Revisions\nLogo Usage\n\n\n\n\nZoning\n\nNew Business\n\nSet Hearing Date for Z-2021-5 – October 25\, 2021\nCourt Reporter\n\n\nPending Business\n\nARB Formation\n\n\n\n\nFiscal\n\nNew Business\n\nEmployment of Public Employee\n\n\nPurchase Order Requests\n\nSingerman\, Mills – Legal Services – $25\,000.00 (General)\nProtegis – Fire Alarm Upgrade – $17\,107.26 (Police)\nBob Sumeral Tire Co. – Tires – $2\,674.40 (Roads)\nCorridon Builders – 8 Replacement Windows – Town Hall – $25\,265.00 (General)\nJason Pitre – Tuition Reimbursement – $2\,925.00 (Fire)\nMedical Mutual of Ohio – HRA Charges – $10\,000.00 (Fire)\n\n\nEmergency PO Ratifications\n\nHighway Auto Center – Exhaust for 8481 – $2\,860.00 (Police)\n\n\nInvoice Approvals\n\nLittler – General Labor – $300.00 (General)\nLittler – General Labor – $250.00 (General)\nLittler – General Labor – $250.00 (General)\nLittler – General Labor – $450.00 (General\, Police)\nOhio Cat – Service – $3\,935.63 (Roads)\nBuckeye Excavating – Excavating – $14\,780.00 (Roads)\nDS Architecture – Town Hall – $4\,572.50 (General)\nBill Measures – Hotel Reimbursement – $81.90 (Fire)\n\n\nBlanket Certificate Renewals/Approvals\n\nRoad and Bridge – Operating Supplies – $15\,000.00\nRoad and Bridge – Repairs and Maintenance – $15\,000.00\nRoad and Bridge – Other Expenses – $5\,000.00\nFire – Training – $10\,000.00
URL:https://bainbridgetwp.com/event/bot-meeting-october-4-2021/
LOCATION:Bainbridge Town Hall\, 17826 Chillicothe Road\, Chagrin Falls\, OH\, 44023\, United States
CATEGORIES:BOT Meetings
END:VEVENT
BEGIN:VEVENT
DTSTART;TZID=America/New_York:20210927T190000
DTEND;TZID=America/New_York:20210927T190000
DTSTAMP:20260424T123050
CREATED:20210812T124904Z
LAST-MODIFIED:20210920T125029Z
UID:15196-1632769200-1632769200@bainbridgetwp.com
SUMMARY:BOT Meeting - Canceled
DESCRIPTION:
URL:https://bainbridgetwp.com/event/bot-meeting-september-27-2021/
LOCATION:Bainbridge Town Hall\, 17826 Chillicothe Road\, Chagrin Falls\, OH\, 44023\, United States
CATEGORIES:BOT Meetings
END:VEVENT
BEGIN:VEVENT
DTSTART;TZID=America/New_York:20210913T190000
DTEND;TZID=America/New_York:20210913T210000
DTSTAMP:20260424T123050
CREATED:20210812T124809Z
LAST-MODIFIED:20211005T152847Z
UID:15194-1631559600-1631566800@bainbridgetwp.com
SUMMARY:BOT Meeting
DESCRIPTION:
URL:https://bainbridgetwp.com/event/bot-meeting-september-13-2021/
LOCATION:Bainbridge Town Hall\, 17826 Chillicothe Road\, Chagrin Falls\, OH\, 44023\, United States
CATEGORIES:BOT Meetings
END:VEVENT
BEGIN:VEVENT
DTSTART;TZID=America/New_York:20210823T190000
DTEND;TZID=America/New_York:20210823T190000
DTSTAMP:20260424T123050
CREATED:20210720T160922Z
LAST-MODIFIED:20210916T122630Z
UID:15056-1629745200-1629745200@bainbridgetwp.com
SUMMARY:BOT Meeting
DESCRIPTION:
URL:https://bainbridgetwp.com/event/bot-meeting-aug_23_2021/
LOCATION:Bainbridge Town Hall\, 17826 Chillicothe Road\, Chagrin Falls\, OH\, 44023\, United States
CATEGORIES:BOT Meetings
END:VEVENT
BEGIN:VEVENT
DTSTART;TZID=America/New_York:20210817T100000
DTEND;TZID=America/New_York:20210817T100000
DTSTAMP:20260424T123050
CREATED:20210811T160106Z
LAST-MODIFIED:20210830T140601Z
UID:15190-1629194400-1629194400@bainbridgetwp.com
SUMMARY:Special BOT Meeting - Canceled
DESCRIPTION:
URL:https://bainbridgetwp.com/event/special-bot-meeting-august-27-2021/
LOCATION:Bainbridge Town Hall\, 17826 Chillicothe Road\, Chagrin Falls\, OH\, 44023\, United States
CATEGORIES:BOT Meetings
END:VEVENT
BEGIN:VEVENT
DTSTART;TZID=America/New_York:20210810T180000
DTEND;TZID=America/New_York:20210810T220000
DTSTAMP:20260424T123050
CREATED:20210802T185237Z
LAST-MODIFIED:20210830T123938Z
UID:15124-1628618400-1628632800@bainbridgetwp.com
SUMMARY:Special BOT Meeting
DESCRIPTION:
URL:https://bainbridgetwp.com/event/special-bot-meeting-8-10-2021/
CATEGORIES:BOT Meetings
END:VEVENT
BEGIN:VEVENT
DTSTART;TZID=America/New_York:20210809T190000
DTEND;TZID=America/New_York:20210809T190000
DTSTAMP:20260424T123050
CREATED:20210720T160822Z
LAST-MODIFIED:20210830T123834Z
UID:15054-1628535600-1628535600@bainbridgetwp.com
SUMMARY:BOT Meeting
DESCRIPTION:
URL:https://bainbridgetwp.com/event/bot-meeting-august-9-2021/
LOCATION:Bainbridge Town Hall\, 17826 Chillicothe Road\, Chagrin Falls\, OH\, 44023\, United States
CATEGORIES:BOT Meetings
END:VEVENT
BEGIN:VEVENT
DTSTART;TZID=America/New_York:20210726T190000
DTEND;TZID=America/New_York:20210726T190000
DTSTAMP:20260424T123050
CREATED:20210707T180147Z
LAST-MODIFIED:20210830T123000Z
UID:7968-1627326000-1627326000@bainbridgetwp.com
SUMMARY:BOT Meeting
DESCRIPTION:
URL:https://bainbridgetwp.com/event/bot-meeting-jul-26-2021/
LOCATION:Bainbridge Town Hall\, 17826 Chillicothe Road\, Chagrin Falls\, OH\, 44023\, United States
CATEGORIES:BOT Meetings
END:VEVENT
BEGIN:VEVENT
DTSTART;TZID=America/New_York:20210712T190000
DTEND;TZID=America/New_York:20210712T190000
DTSTAMP:20260424T123050
CREATED:20210707T175810Z
LAST-MODIFIED:20210830T142248Z
UID:7964-1626116400-1626116400@bainbridgetwp.com
SUMMARY:BOT Meeting
DESCRIPTION:
URL:https://bainbridgetwp.com/event/bot-meeting-july-12-2021/
LOCATION:Bainbridge Town Hall\, 17826 Chillicothe Road\, Chagrin Falls\, OH\, 44023\, United States
CATEGORIES:BOT Meetings
END:VEVENT
END:VCALENDAR